Workbook
Name Print_Area: Grayling!$A$1:$S$38
Name д: 'Расчет ПРЕДЗАКАЗ'!$B$51:$B$56
Name ДилерГГ: #REF!
Name ОплатаГГ: #REF!
Name со: 'Расчет ПРЕДЗАКАЗ'!$D$51:$D$54

Sheet Расчет ПРЕДЗАКАЗ
G1: Инструкция по заполнению информации в Прайс-листе: 1. Во вкладке "Расчёт", расположенной в нижней части Excel, выбираете свой "Статус" партнёра: бронзовый, серебряный, золотой, платиновый, алмазный (Для Вашего удобства выделена жёлтым цветом). 2. Не покидая вкладку "Расчёт", нажмите на колонку "Способ оплаты" и выберите оптимальную для Вашего бизнеса отсрочку/предоплату (Выделена жёлтым цветом). 3. Весь дальнейший расчёт Вы сможете наблюдать в таблице, которая автоматически рассчитывает за Вас сумму заказа в ценах и скидках. 4. Переходите в нижней части Excel на вкладку интересующей Вас торговой марки: Grayling, Pride или др. 5. Для Вашего удобства, рабочая зона выделена зелёным цветом для заполнения интересующей позиции товара в ШТ. При заполнении позиций в штуках, вся информация о стоимости, скидках, с учетом Вашего "Статуса" будет отражена далее во вкладке "Расчёт".
A5: Обязательно к заполнению
A6: Статус | B6: Способ оплаты | I6: Дилер | J6: Скидка дилера | K6: Скидка от обьема | L6: Скидка опалат | M6: Скидка итого
A7: Платиновый дилер | B7: Предоплата 30%, пост оплата 70% | I7: =IF(EXACT(A7,B51),A51,IF(EXACT(A7,B52),A52,IF(EXACT(A7,B53),A53,IF(EXACT(A7,B54),A54,IF(EXACT(A7,B55),A55,IF(EXACT(A7,B56),A56,0)))))) -> 40 | K7: =IF(EXACT(B56,A7),0,IF(EXACT(B7,D51),C51,IF(EXACT(B7,D52),C52,IF(EXACT(B7,D53),C53,0)))) -> 30 | M7: =L9+L10+J8+J9+J10+J11+J12+L11+L12+L13+L14+M9+M10+M11+M12+M13+N9+N10+N11+N12+N13+O9+O11+O10+O12+O13+0.02 -> 0.02
I8: =IF(EXACT(A7,B56),A56,0) -> 0 | J8: =IF(AND(EXACT(A7,J22),EXACT(B7,J24)),IF(B12>J38,P38,IF(B12>J37,P37,IF(B12>J36,P36,IF(B12>J35,P35,IF(B12>J34,P34,IF(B12>J33,P33,IF(B12>J32,P32,0)))))))) -> FALSE
B9: Сумма заказа в Базовых ценах | C9: Сумма заказа с учетом скидок | D9: Ваша Скидка | J9: =IF(AND(EXACT(A7,J22),EXACT(B7,J26)),IF(B12>J38,N38,IF(B12>J37,N37,IF(B12>J36,N36,IF(B12>J35,N35,IF(B12>J34,N34,IF(B12>J33,N33,IF(B12>J32,N32,0)))))))) -> FALSE | L9: =IF(AND(EXACT(A7,J17),EXACT(B7,J24)),IF(B12>J48,P48,IF(B12>J47,P47,IF(B12>J46,P46,IF(B12>J45,P45,IF(B12>J44,P44,IF(B12>J43,P43,IF(B12>J42,P42,0)))))))) -> FALSE | M9: =IF(AND(EXACT(A7,J17),EXACT(B7,J25)),IF(B12>J48,M48,IF(B12>J47,M47,IF(B12>J46,M46,IF(B12>J45,M45,IF(B12>J44,M44,IF(B12>J43,M43,IF(B12>J42,M42,0)))))))) -> FALSE | N9: =IF(AND(EXACT(A7,J17),EXACT(B7,J26)),IF(B12>J48,N48,IF(B12>J47,N47,IF(B12>J46,N46,IF(B12>J45,N45,IF(B12>J44,N44,IF(B12>J43,N43,IF(B12>J42,N42,0)))))))) -> FALSE | O9: =IF(AND(EXACT(A7,J17),EXACT(B7,J27)),IF(B12>J48,O48,IF(B12>J47,O47,IF(B12>J46,O46,IF(B12>J45,O45,IF(B12>J44,O44,IF(B12>J43,O43,IF(B12>J42,O42,0)))))))) -> FALSE
A10: Сумма товара по стоп ценам | B10: =Grayling!Z22+Pride!Z22+Payer!Z22+'7.62'!Z22+'Orion Active'!Z22+AURAPRO!Z22 -> 0 | C10: =B10 -> 0 | D10: =M7 -> 0.02 | J10: =IF(AND(EXACT(A7,J22),EXACT(B7,J27)),IF(B12>J38,O38,IF(B12>J37,O37,IF(B12>J36,O36,IF(B12>J35,O35,IF(B12>J34,O34,IF(B12>J33,O33,IF(B12>J32,O32,0)))))))) -> FALSE | L10: =IF(AND(EXACT(A7,J18),EXACT(B7,J24)),IF(B12>J48,P48,IF(B12>J47,P47,IF(B12>J46,P46,IF(B12>J45,P45,IF(B12>J44,P44,IF(B12>J43,P43,IF(B12>J42,P42,0)))))))) -> FALSE | M10: =IF(AND(EXACT(A7,J18),EXACT(B7,J25)),IF(B12>J48,M48,IF(B12>J47,M47,IF(B12>J46,M46,IF(B12>J45,M45,IF(B12>J44,M44,IF(B12>J43,M43,IF(B12>J42,M42,0)))))))) -> FALSE | N10: =IF(AND(EXACT(A7,J18),EXACT(B7,J26)),IF(B12>J48,N48,IF(B12>J47,N47,IF(B12>J46,N46,IF(B12>J45,N45,IF(B12>J44,N44,IF(B12>J43,N43,IF(B12>J42,N42,0)))))))) -> FALSE | O10: =IF(AND(EXACT(A7,J18),EXACT(B7,J27)),IF(B12>J48,O48,IF(B12>J47,O47,IF(B12>J46,O46,IF(B12>J45,O45,IF(B12>J44,O44,IF(B12>J43,O43,IF(B12>J42,O42,0)))))))) -> FALSE
A11: Сумма товара по Базовому опту | B11: =Grayling!AA22+Pride!AA22+Payer!AA22+'7.62'!AA22+'Orion Active'!AA22+AURAPRO!AA22 -> 0 | C11: =B11*(1-M7) -> 0 | J11: =IF(AND(EXACT(A7,J22),EXACT(B7,J25)),IF(B12>J38,M38,IF(B12>J37,M37,IF(B12>J36,M36,IF(B12>J35,M35,IF(B12>J34,M34,IF(B12>J33,M33,IF(B12>J32,M32,0)))))))) -> FALSE | L11: =IF(AND(EXACT(A7,J19),EXACT(B7,J24)),IF(B12>J48,P48,IF(B12>J47,P47,IF(B12>J46,P46,IF(B12>J45,P45,IF(B12>J44,P44,IF(B12>J43,P43,IF(B12>J42,P42,0)))))))) -> FALSE | M11: =IF(AND(EXACT(A7,J19),EXACT(B7,J25)),IF(B12>J48,M48,IF(B12>J47,M47,IF(B12>J46,M46,IF(B12>J45,M45,IF(B12>J44,M44,IF(B12>J43,M43,IF(B12>J42,M42,0)))))))) -> FALSE | N11: =IF(AND(EXACT(A7,J19),EXACT(B7,J26)),IF(B12>J48,N48,IF(B12>J47,N47,IF(B12>J46,N46,IF(B12>J45,N45,IF(B12>J44,N44,IF(B12>J43,N43,IF(B12>J42,N42,0)))))))) -> FALSE | O11: =IF(AND(EXACT(A7,J19),EXACT(B7,J27)),IF(B12>J48,O48,IF(B12>J47,O47,IF(B12>J46,O46,IF(B12>J45,O45,IF(B12>J44,O44,IF(B12>J43,O43,IF(B12>J42,O42,0)))))))) -> FALSE
A12: Итого | B12: =B11+B10 -> 0 | C12: =C11+C10 -> 0 | J12: =IF(AND(EXACT(A7,J22),EXACT(B7,J29)),IF(B12>J38,N38,IF(B12>J37,N37,IF(B12>J36,N36,IF(B12>J35,N35,IF(B12>J34,N34,IF(B12>J33,N33,IF(B12>J32,N32,0)))))))) -> FALSE | L12: =IF(AND(EXACT(A7,J20),EXACT(B7,J24)),IF(B12>J48,P48,IF(B12>J47,P47,IF(B12>J46,P46,IF(B12>J45,P45,IF(B12>J44,P44,IF(B12>J43,P43,IF(B12>J42,P42,0)))))))) -> FALSE | M12: =IF(AND(EXACT(A7,J20),EXACT(B7,J25)),IF(B12>J48,M48,IF(B12>J47,M47,IF(B12>J46,M46,IF(B12>J45,M45,IF(B12>J44,M44,IF(B12>J43,M43,IF(B12>J42,M42,0)))))))) -> FALSE | N12: =IF(AND(EXACT(A7,J20),EXACT(B7,J26)),IF(B12>J48,N48,IF(B12>J47,N47,IF(B12>J46,N46,IF(B12>J45,N45,IF(B12>J44,N44,IF(B12>J43,N43,IF(B12>J42,N42,0)))))))) -> 0 | O12: =IF(AND(EXACT(A7,J20),EXACT(B7,J27)),IF(B12>J48,O48,IF(B12>J47,O47,IF(B12>J46,O46,IF(B12>J45,O45,IF(B12>J44,O44,IF(B12>J43,O43,IF(B12>J42,O42,0)))))))) -> FALSE
L13: =IF(AND(EXACT(A7,J21),EXACT(B7,J24)),IF(B12>J48,P48,IF(B12>J47,P47,IF(B12>J46,P46,IF(B12>J45,P45,IF(B12>J44,P44,IF(B12>J43,P43,IF(B12>J42,P42,0)))))))) -> FALSE | M13: =IF(AND(EXACT(A7,J21),EXACT(B7,J25)),IF(B12>J48,M48,IF(B12>J47,M47,IF(B12>J46,M46,IF(B12>J45,M45,IF(B12>J44,M44,IF(B12>J43,M43,IF(B12>J42,M42,0)))))))) -> FALSE | N13: =IF(AND(EXACT(A7,J21),EXACT(B7,J26)),IF(B12>J48,N48,IF(B12>J47,N47,IF(B12>J46,N46,IF(B12>J45,N45,IF(B12>J44,N44,IF(B12>J43,N43,IF(B12>J42,N42,0)))))))) -> FALSE | O13: =IF(AND(EXACT(A7,J21),EXACT(B7,J27)),IF(B12>J48,O48,IF(B12>J47,O47,IF(B12>J46,O46,IF(B12>J45,O45,IF(B12>J44,O44,IF(B12>J43,O43,IF(B12>J42,O42,0)))))))) -> FALSE
I17: 10 | J17: Бронзовый дилер | K17: 0.1
I18: 20 | J18: Серебряный дилер | K18: 0.13
I19: 30 | J19: Золотой дилер | K19: 0.15
A20: Сумма заказа базовый опт | B20: скидка от оптовой цены | C20: скидка за участие в предзаказе | D20: скидка за предоплату в 20% пост оплата 80% | E20: скидка за предоплату в 30% пост оплата 70% | F20: скидка за предоплату в 50% пост оплата 50% | G20: скидка за предоплату в 100% | I20: 40 | J20: Платиновый дилер | K20: 0.17
A21: 550000 | B21: 0.03 | C21: 0.02 | D21: 0 | E21: 0.01 | F21: 0.02 | G21: 0.03 | I21: 50 | J21: Алмазный дилер | K21: 0.2
A22: 850000 | B22: 0.07 | C22: 0.02 | D22: 0 | E22: 0.01 | F22: 0.02 | G22: 0.03 | I22: 60 | J22: Разовая закупка
A23: 1500000 | B23: 0.1 | C23: 0.02 | D23: 0 | E23: 0.01 | F23: 0.02 | G23: 0.03
A24: 3400000 | B24: 0.12 | C24: 0.02 | D24: 0 | E24: 0.01 | F24: 0.02 | G24: 0.03 | I24: 10 | J24: Предоплата 100% | K24: 0.04
A25: 5500000 | B25: 0.14 | C25: 0.02 | D25: 0 | E25: 0.01 | F25: 0.02 | G25: 0.03 | I25: 20 | J25: Предоплата 20%, пост оплата 80% | K25: 0.02
A26: 8500000 | B26: 0.16 | C26: 0.02 | D26: 0 | E26: 0.01 | F26: 0.02 | G26: 0.03 | I26: 30 | J26: Предоплата 30%, пост оплата 70% | K26: 0
A27: 8500000 | B27: 0.16 | C27: 0.02 | D27: 0 | E27: 0.01 | F27: 0.02 | G27: 0.03 | I27: 40 | J27: Предоплата 50%, пост оплата 50%
I28: 50 | J28: Отсрочка 45 дней
I29: 60 | J29: Отсрочка 60 дней
J30: Разовые скидки и наценки при пост оплате
A31: Сумма заказа базовый опт | B31: скидка от оптовой цены | C31: скидка за участие в предзаказе | D31: скидка за предоплату в 20% пост оплата 80% | E31: скидка за предоплату в 30% пост оплата 70% | F31: скидка за предоплату в 50% пост оплата 50% | G31: скидка за предоплату в 100% | J31: Сумма заказа базовый опт | K31: скидка от оптовой цены | L31: скидка за участие в предзаказе | M31: скидка за предоплату в 20% пост оплата 80% | N31: скидка за предоплату в 30% пост оплата 70% | O31: скидка за предоплату в 50% пост оплата 50% | P31: скидка за предоплату в 100% | T31: Разовые скидки и наценки при предоплате
A32: 750000 | B32: 0.1 | C32: 0.02 | D32: 0 | E32: 0.01 | F32: 0.02 | G32: 0.03 | J32: 550000 | K32: 0.03 | L32: 0.02 | M32: =K32 -> 0.03 | N32: =K32+1% -> 0.04 | O32: =K32+2% -> 0.05 | P32: =K32+3% -> 0.06 | T32: Сумма заказа базовый опт | U32: Скидка от БОЦ(Баззовая оптовая цена)
A33: 1500000 | B33: 0.13 | C33: 0.02 | D33: 0 | E33: 0.01 | F33: 0.02 | G33: 0.03 | J33: 850000 | K33: 0.07 | L33: 0.02 | M33: =K33 -> 0.07 | N33: =K33+1% -> 0.08 | O33: =K33+2% -> 0.09 | P33: =K33+3% -> 0.1 | T33: 50000 | U33: 0.03
A34: 250000 | B34: 0.15 | C34: 0.02 | D34: 0 | E34: 0.01 | F34: 0.02 | G34: 0.03 | J34: 1500000 | K34: 0.1 | L34: 0.02 | M34: =K34 -> 0.1 | N34: =K34+1% -> 0.11 | O34: =K34+2% -> 0.12 | P34: =K34+3% -> 0.13 | T34: 350000 | U34: 0.05
A35: 5000000 | B35: 0.17 | C35: 0.02 | D35: 0 | E35: 0.01 | F35: 0.02 | G35: 0.03 | J35: 3400000 | K35: 0.12 | L35: 0.02 | M35: =K35 -> 0.12 | N35: =K35+1% -> 0.13 | O35: =K35+2% -> 0.14 | P35: =K35+3% -> 0.15 | T35: 750000 | U35: 0.07
A36: 7500000 | B36: 0.2 | C36: 0.02 | D36: 0 | E36: 0.01 | F36: 0.02 | G36: 0.03 | J36: 5500000 | K36: 0.14 | L36: 0.02 | M36: =K36 -> 0.14 | N36: =K36+1% -> 0.15 | O36: =K36+2% -> 0.16 | P36: =K36+3% -> 0.17 | T36: 1500000 | U36: 0.1
A37: 7500001 | B37: 0.2 | C37: 0.02 | D37: 0 | E37: 0.01 | F37: 0.02 | G37: 0.03 | J37: 8500000 | K37: 0.16 | L37: 0.02 | M37: =K37 -> 0.16 | N37: =K37+1% -> 0.17 | O37: =K37+2% -> 0.18 | P37: =K37+3% -> 0.19 | T37: 3400000 | U37: 0.12
A38: 7500002 | B38: 0.2 | C38: 0.02 | D38: 0 | E38: 0.01 | F38: 0.02 | G38: 0.03 | J38: 8500000 | K38: 0.16 | L38: 0.02 | M38: =K38 -> 0.16 | N38: =K38+1% -> 0.17 | O38: =K38+2% -> 0.18 | P38: =K38+3% -> 0.19 | T38: 5500000 | U38: 0.15
T39: 10000000 | U39: 0.17
J40: дилер
J41: Сумма заказа базовый опт | K41: скидка от оптовой цены | L41: скидка за участие в предзаказе | M41: скидка за предоплату в 20% пост оплата 80% | N41: скидка за предоплату в 30% пост оплата 70% | O41: скидка за предоплату в 50% пост оплата 50% | P41: скидка за предоплату в 100%
J42: 750000 | K42: 0.1 | L42: 0.02 | M42: =K42 -> 0.1 | N42: =K42+1% -> 0.11 | O42: =K42+2% -> 0.12 | P42: =K42+3% -> 0.13
J43: 1500000 | K43: 0.13 | L43: 0.02 | M43: =K43 -> 0.13 | N43: =K43+1% -> 0.14 | O43: =K43+2% -> 0.15 | P43: =K43+3% -> 0.16
J44: 2500000 | K44: 0.15 | L44: 0.02 | M44: =K44 -> 0.15 | N44: =K44+1% -> 0.16 | O44: =K44+2% -> 0.17 | P44: =K44+3% -> 0.18
J45: 5000000 | K45: 0.17 | L45: 0.02 | M45: =K45 -> 0.17 | N45: =K45+1% -> 0.18 | O45: =K45+2% -> 0.19 | P45: =K45+3% -> 0.2
J46: 7500000 | K46: 0.2 | L46: 0.02 | M46: =K46 -> 0.2 | N46: =K46+1% -> 0.21 | O46: =K46+2% -> 0.22 | P46: =K46+3% -> 0.23
...

Sheet Grayling
AA3: =IF(O24=СторЦена,M24*P24,) -> #NAME?
Z22: =SUM(Z24:Z760839) -> 0 | AA22: =SUM(AA24:AA760839) -> 0
A23: № | B23: Артикул | C23: Наименование как в 1С | D23: Фото Перед | F23: Ткань | G23: Цвет | H23: Особенности модели | I23: Описание | J23: Подробнее | K23: Размер | L23: РРЦ НОВАЯ | M23: оптовая | N23: Штрихкод | O23: СТОП ЦЕНА | P23: Количество ЗАКАЗ в шт (внести) | Q23: Сумма заказа в руб. по оптовой цене | S23: Остатки в шт | U23: Цена за штуку с учетом вашей скидки | V23: Сумма заказа в руб. с учетом вашей скидки | W23: Цена за штуку с учетом вашей скидки | X23: Сумма заказа в руб. с учетом вашей скидки | Z23: Расчет стоп цены | AA23: Расчет цены | AB23: Наценка РРЦ | AC23: Наценка РРЦ
A24: 232 | B24: 110-1102096123-148 | C24: Термобелье мужское "Inzer (Инзер)" (полиэстер, хаки) | D24: Фото отсутствует | F24: Ткань верха: трикотаж: полиэстер 100% | G24: хаки | H24: Материал отводит влагу от тела и поддерживает комфортный микроклимат Быстросохнущая ткань удобна в активном режиме и поездках Продуманная конструкция сохраняет комфорт при длительной носке | I24: Термобельё 1-го слоя «Inzer (Инзер)» ТМ GRAYLING — выбор для рыбалки, туризма и активного отдыха в течение всего года. Материал помогает отводить влагу от тела, поддерживает терморегуляцию и быстро сохнет после нагрузки. Лёгкий полиэстеровый трикотаж эффективно отводит влагу, быстро сохнет и комфортно ощущается при длительной активности. Сезон: всесезонное | J24: WEB-Сайт | K24: р-р 48-50 рост 170-176 | L24: 4470 | M24: 2790 | N24: 4660335544554 | Q24: =P24*M24 -> 0 | S24: 23 | U24: =IF(EXACT(O24,Y24),M24,M24*(1-'Расчет ПРЕДЗАКАЗ'!$D$10)) -> 2734.2 | V24: =P24*U24 -> 0 | W24: =IF(EXACT(O24,Y24),M24,M24*(1-#REF!)) -> #REF! | X24: =P24*W24 -> #REF! | Y24: СтопЦена | Z24: =IF(EXACT(O24,Y24),Q24,0) -> 0 | AA24: =IF(Z24=0,Q24,0) -> 0 | AB24: =IF(U24=0,"",L24/U24-1) -> 0.63484749 | AC24: =IF(W24=0,"",L24/W24-1) -> #REF!
K25: р-р 52-54 рост 170-176 | L25: 4470 | M25: 2790 | N25: 4660335544578 | Q25: =P25*M25 -> 0 | S25: 19 | U25: =IF(EXACT(O25,Y25),M25,M25*(1-'Расчет ПРЕДЗАКАЗ'!$D$10)) -> 2734.2 | V25: =P25*U25 -> 0 | W25: =IF(EXACT(O25,Y25),M25,M25*(1-#REF!)) -> #REF! | X25: =P25*W25 -> #REF! | Y25: СтопЦена | Z25: =IF(EXACT(O25,Y25),Q25,0) -> 0 | AA25: =IF(Z25=0,Q25,0) -> 0 | AB25: =IF(U25=0,"",L25/U25-1) -> 0.63484749 | AC25: =IF(W25=0,"",L25/W25-1) -> #REF!
L26: =M26-M26*30% -> 0 | Q26: =P26*M26 -> 0 | U26: =IF(EXACT(O26,Y26),M26,M26*(1-'Расчет ПРЕДЗАКАЗ'!$D$10)) -> 0 | V26: =P26*U26 -> 0 | W26: =IF(EXACT(O26,Y26),M26,M26*(1-#REF!)) -> #REF! | X26: =P26*W26 -> #REF! | Y26: СтопЦена | Z26: =IF(EXACT(O26,Y26),Q26,0) -> 0 | AA26: =IF(Z26=0,Q26,0) -> 0 | AB26: =IF(U26=0,"",L26/U26-1) | AC26: =IF(W26=0,"",L26/W26-1) -> #REF!
L27: =M27-M27*30% -> 0 | Q27: =P27*M27 -> 0 | U27: =IF(EXACT(O27,Y27),M27,M27*(1-'Расчет ПРЕДЗАКАЗ'!$D$10)) -> 0 | V27: =P27*U27 -> 0 | W27: =IF(EXACT(O27,Y27),M27,M27*(1-#REF!)) -> #REF! | X27: =P27*W27 -> #REF! | Y27: СтопЦена | Z27: =IF(EXACT(O27,Y27),Q27,0) -> 0 | AA27: =IF(Z27=0,Q27,0) -> 0 | AB27: =IF(U27=0,"",L27/U27-1) | AC27: =IF(W27=0,"",L27/W27-1) -> #REF!
L28: =M28-M28*30% -> 0 | Q28: =P28*M28 -> 0 | U28: =IF(EXACT(O28,Y28),M28,M28*(1-'Расчет ПРЕДЗАКАЗ'!$D$10)) -> 0 | V28: =P28*U28 -> 0 | W28: =IF(EXACT(O28,Y28),M28,M28*(1-#REF!)) -> #REF! | X28: =P28*W28 -> #REF! | Y28: СтопЦена | Z28: =IF(EXACT(O28,Y28),Q28,0) -> 0 | AA28: =IF(Z28=0,Q28,0) -> 0 | AB28: =IF(U28=0,"",L28/U28-1) | AC28: =IF(W28=0,"",L28/W28-1) -> #REF!
L29: =M29-M29*30% -> 0 | Q29: =P29*M29 -> 0 | U29: =IF(EXACT(O29,Y29),M29,M29*(1-'Расчет ПРЕДЗАКАЗ'!$D$10)) -> 0 | V29: =P29*U29 -> 0 | W29: =IF(EXACT(O29,Y29),M29,M29*(1-#REF!)) -> #REF! | X29: =P29*W29 -> #REF! | Y29: СтопЦена | Z29: =IF(EXACT(O29,Y29),Q29,0) -> 0 | AA29: =IF(Z29=0,Q29,0) -> 0 | AB29: =IF(U29=0,"",L29/U29-1) | AC29: =IF(W29=0,"",L29/W29-1) -> #REF!
L30: =M30-M30*30% -> 0 | Q30: =P30*M30 -> 0 | U30: =IF(EXACT(O30,Y30),M30,M30*(1-'Расчет ПРЕДЗАКАЗ'!$D$10)) -> 0 | V30: =P30*U30 -> 0 | W30: =IF(EXACT(O30,Y30),M30,M30*(1-#REF!)) -> #REF! | X30: =P30*W30 -> #REF! | Y30: СтопЦена | Z30: =IF(EXACT(O30,Y30),Q30,0) -> 0 | AA30: =IF(Z30=0,Q30,0) -> 0 | AB30: =IF(U30=0,"",L30/U30-1) | AC30: =IF(W30=0,"",L30/W30-1) -> #REF!
L31: =M31-M31*30% -> 0 | Q31: =P31*M31 -> 0 | U31: =IF(EXACT(O31,Y31),M31,M31*(1-'Расчет ПРЕДЗАКАЗ'!$D$10)) -> 0 | V31: =P31*U31 -> 0 | W31: =IF(EXACT(O31,Y31),M31,M31*(1-#REF!)) -> #REF! | X31: =P31*W31 -> #REF! | Y31: СтопЦена | Z31: =IF(EXACT(O31,Y31),Q31,0) -> 0 | AA31: =IF(Z31=0,Q31,0) -> 0 | AB31: =IF(U31=0,"",L31/U31-1) | AC31: =IF(W31=0,"",L31/W31-1) -> #REF!
L32: =M32-M32*30% -> 0 | Q32: =P32*M32 -> 0 | U32: =IF(EXACT(O32,Y32),M32,M32*(1-'Расчет ПРЕДЗАКАЗ'!$D$10)) -> 0 | V32: =P32*U32 -> 0 | W32: =IF(EXACT(O32,Y32),M32,M32*(1-#REF!)) -> #REF! | X32: =P32*W32 -> #REF! | Y32: СтопЦена | Z32: =IF(EXACT(O32,Y32),Q32,0) -> 0 | AA32: =IF(Z32=0,Q32,0) -> 0 | AB32: =IF(U32=0,"",L32/U32-1) | AC32: =IF(W32=0,"",L32/W32-1) -> #REF!
L33: =M33-M33*30% -> 0 | Q33: =P33*M33 -> 0 | U33: =IF(EXACT(O33,Y33),M33,M33*(1-'Расчет ПРЕДЗАКАЗ'!$D$10)) -> 0 | V33: =P33*U33 -> 0 | W33: =IF(EXACT(O33,Y33),M33,M33*(1-#REF!)) -> #REF! | X33: =P33*W33 -> #REF! | Y33: СтопЦена | Z33: =IF(EXACT(O33,Y33),Q33,0) -> 0 | AA33: =IF(Z33=0,Q33,0) -> 0 | AB33: =IF(U33=0,"",L33/U33-1) | AC33: =IF(W33=0,"",L33/W33-1) -> #REF!
L34: =M34-M34*30% -> 0 | Q34: =P34*M34 -> 0 | U34: =IF(EXACT(O34,Y34),M34,M34*(1-'Расчет ПРЕДЗАКАЗ'!$D$10)) -> 0 | V34: =P34*U34 -> 0 | W34: =IF(EXACT(O34,Y34),M34,M34*(1-#REF!)) -> #REF! | X34: =P34*W34 -> #REF! | Y34: СтопЦена | Z34: =IF(EXACT(O34,Y34),Q34,0) -> 0 | AA34: =IF(Z34=0,Q34,0) -> 0 | AB34: =IF(U34=0,"",L34/U34-1) | AC34: =IF(W34=0,"",L34/W34-1) -> #REF!
L35: =M35-M35*30% -> 0 | Q35: =P35*M35 -> 0 | U35: =IF(EXACT(O35,Y35),M35,M35*(1-'Расчет ПРЕДЗАКАЗ'!$D$10)) -> 0 | V35: =P35*U35 -> 0 | W35: =IF(EXACT(O35,Y35),M35,M35*(1-#REF!)) -> #REF! | X35: =P35*W35 -> #REF! | Y35: СтопЦена | Z35: =IF(EXACT(O35,Y35),Q35,0) -> 0 | AA35: =IF(Z35=0,Q35,0) -> 0 | AB35: =IF(U35=0,"",L35/U35-1) | AC35: =IF(W35=0,"",L35/W35-1) -> #REF!
L36: =M36-M36*30% -> 0 | Q36: =P36*M36 -> 0 | U36: =IF(EXACT(O36,Y36),M36,M36*(1-'Расчет ПРЕДЗАКАЗ'!$D$10)) -> 0 | V36: =P36*U36 -> 0 | W36: =IF(EXACT(O36,Y36),M36,M36*(1-#REF!)) -> #REF! | X36: =P36*W36 -> #REF! | Y36: СтопЦена | Z36: =IF(EXACT(O36,Y36),Q36,0) -> 0 | AA36: =IF(Z36=0,Q36,0) -> 0 | AB36: =IF(U36=0,"",L36/U36-1) | AC36: =IF(W36=0,"",L36/W36-1) -> #REF!
L37: =M37-M37*30% -> 0 | Q37: =P37*M37 -> 0 | U37: =IF(EXACT(O37,Y37),M37,M37*(1-'Расчет ПРЕДЗАКАЗ'!$D$10)) -> 0 | V37: =P37*U37 -> 0 | W37: =IF(EXACT(O37,Y37),M37,M37*(1-#REF!)) -> #REF! | X37: =P37*W37 -> #REF! | Y37: СтопЦена | Z37: =IF(EXACT(O37,Y37),Q37,0) -> 0 | AA37: =IF(Z37=0,Q37,0) -> 0 | AB37: =IF(U37=0,"",L37/U37-1) | AC37: =IF(W37=0,"",L37/W37-1) -> #REF!
L38: =M38-M38*30% -> 0 | Q38: =P38*M38 -> 0 | U38: =IF(EXACT(O38,Y38),M38,M38*(1-'Расчет ПРЕДЗАКАЗ'!$D$10)) -> 0 | V38: =P38*U38 -> 0 | W38: =IF(EXACT(O38,Y38),M38,M38*(1-#REF!)) -> #REF! | X38: =P38*W38 -> #REF! | Y38: СтопЦена | Z38: =IF(EXACT(O38,Y38),Q38,0) -> 0 | AA38: =IF(Z38=0,Q38,0) -> 0 | AB38: =IF(U38=0,"",L38/U38-1) | AC38: =IF(W38=0,"",L38/W38-1) -> #REF!
A40: 233 | B40: 110-1302096123-122 | C40: Термобелье мужское "Inzer (Инзер)" (полиэстер, т.графит) | D40: Фото отсутствует | F40: Ткань верха: трикотаж: полиэстер 100% | G40: т.графит | H40: Материал отводит влагу от тела и поддерживает комфортный микроклимат Быстросохнущая ткань удобна в активном режиме и поездках Продуманная конструкция сохраняет комфорт при длительной носке | I40: Термобельё 1-го слоя «Inzer (Инзер)» ТМ GRAYLING — выбор для рыбалки, туризма и активного отдыха в течение всего года. Материал помогает отводить влагу от тела, поддерживает терморегуляцию и быстро сохнет после нагрузки. Лёгкий полиэстеровый трикотаж эффективно отводит влагу, быстро сохнет и комфортно ощущается при длительной активности. Сезон: всесезонное | J40: WEB-Сайт | K40: р-р 48-50 рост 170-176 | L40: 2840 | M40: 1770 | N40: 4660335544462 | O40: СтопЦена | Q40: =P40*M40 -> 0 | S40: 1 | U40: =IF(EXACT(O40,Y40),M40,M40*(1-'Расчет ПРЕДЗАКАЗ'!$D$10)) -> 1770 | V40: =P40*U40 -> 0 | W40: =IF(EXACT(O40,Y40),M40,M40*(1-#REF!)) -> 1770 | X40: =P40*W40 -> 0 | Y40: СтопЦена | Z40: =IF(EXACT(O40,Y40),Q40,0) -> 0 | AA40: =IF(Z40=0,Q40,0) -> 0 | AB40: =IF(U40=0,"",L40/U40-1) -> 0.60451977 | AC40: =IF(W40=0,"",L40/W40-1) -> 0.60451977
Q41: =P41*M41 -> 0 | U41: =IF(EXACT(O41,Y41),M41,M41*(1-'Расчет ПРЕДЗАКАЗ'!$D$10)) -> 0 | V41: =P41*U41 -> 0 | W41: =IF(EXACT(O41,Y41),M41,M41*(1-#REF!)) -> #REF! | X41: =P41*W41 -> #REF! | Y41: СтопЦена | Z41: =IF(EXACT(O41,Y41),Q41,0) -> 0 | AA41: =IF(Z41=0,Q41,0) -> 0 | AB41: =IF(U41=0,"",L41/U41-1) | AC41: =IF(W41=0,"",L41/W41-1) -> #REF!
Q42: =P42*M42 -> 0 | U42: =IF(EXACT(O42,Y42),M42,M42*(1-'Расчет ПРЕДЗАКАЗ'!$D$10)) -> 0 | V42: =P42*U42 -> 0 | W42: =IF(EXACT(O42,Y42),M42,M42*(1-#REF!)) -> #REF! | X42: =P42*W42 -> #REF! | Y42: СтопЦена | Z42: =IF(EXACT(O42,Y42),Q42,0) -> 0 | AA42: =IF(Z42=0,Q42,0) -> 0 | AB42: =IF(U42=0,"",L42/U42-1) | AC42: =IF(W42=0,"",L42/W42-1) -> #REF!
Q43: =P43*M43 -> 0 | U43: =IF(EXACT(O43,Y43),M43,M43*(1-'Расчет ПРЕДЗАКАЗ'!$D$10)) -> 0 | V43: =P43*U43 -> 0 | W43: =IF(EXACT(O43,Y43),M43,M43*(1-#REF!)) -> #REF! | X43: =P43*W43 -> #REF! | Y43: СтопЦена | Z43: =IF(EXACT(O43,Y43),Q43,0) -> 0 | AA43: =IF(Z43=0,Q43,0) -> 0 | AB43: =IF(U43=0,"",L43/U43-1) | AC43: =IF(W43=0,"",L43/W43-1) -> #REF!
Q44: =P44*M44 -> 0 | U44: =IF(EXACT(O44,Y44),M44,M44*(1-'Расчет ПРЕДЗАКАЗ'!$D$10)) -> 0 | V44: =P44*U44 -> 0 | W44: =IF(EXACT(O44,Y44),M44,M44*(1-#REF!)) -> #REF! | X44: =P44*W44 -> #REF! | Y44: СтопЦена | Z44: =IF(EXACT(O44,Y44),Q44,0) -> 0 | AA44: =IF(Z44=0,Q44,0) -> 0 | AB44: =IF(U44=0,"",L44/U44-1) | AC44: =IF(W44=0,"",L44/W44-1) -> #REF!
Q45: =P45*M45 -> 0 | U45: =IF(EXACT(O45,Y45),M45,M45*(1-'Расчет ПРЕДЗАКАЗ'!$D$10)) -> 0 | V45: =P45*U45 -> 0 | W45: =IF(EXACT(O45,Y45),M45,M45*(1-#REF!)) -> #REF! | X45: =P45*W45 -> #REF! | Y45: СтопЦена | Z45: =IF(EXACT(O45,Y45),Q45,0) -> 0 | AA45: =IF(Z45=0,Q45,0) -> 0 | AB45: =IF(U45=0,"",L45/U45-1) | AC45: =IF(W45=0,"",L45/W45-1) -> #REF!
Q46: =P46*M46 -> 0 | U46: =IF(EXACT(O46,Y46),M46,M46*(1-'Расчет ПРЕДЗАКАЗ'!$D$10)) -> 0 | V46: =P46*U46 -> 0 | W46: =IF(EXACT(O46,Y46),M46,M46*(1-#REF!)) -> #REF! | X46: =P46*W46 -> #REF! | Y46: СтопЦена | Z46: =IF(EXACT(O46,Y46),Q46,0) -> 0 | AA46: =IF(Z46=0,Q46,0) -> 0 | AB46: =IF(U46=0,"",L46/U46-1) | AC46: =IF(W46=0,"",L46/W46-1) -> #REF!
Q47: =P47*M47 -> 0 | U47: =IF(EXACT(O47,Y47),M47,M47*(1-'Расчет ПРЕДЗАКАЗ'!$D$10)) -> 0 | V47: =P47*U47 -> 0 | W47: =IF(EXACT(O47,Y47),M47,M47*(1-#REF!)) -> #REF! | X47: =P47*W47 -> #REF! | Y47: СтопЦена | Z47: =IF(EXACT(O47,Y47),Q47,0) -> 0 | AA47: =IF(Z47=0,Q47,0) -> 0 | AB47: =IF(U47=0,"",L47/U47-1) | AC47: =IF(W47=0,"",L47/W47-1) -> #REF!
Q48: =P48*M48 -> 0 | U48: =IF(EXACT(O48,Y48),M48,M48*(1-'Расчет ПРЕДЗАКАЗ'!$D$10)) -> 0 | V48: =P48*U48 -> 0 | W48: =IF(EXACT(O48,Y48),M48,M48*(1-#REF!)) -> #REF! | X48: =P48*W48 -> #REF! | Y48: СтопЦена | Z48: =IF(EXACT(O48,Y48),Q48,0) -> 0 | AA48: =IF(Z48=0,Q48,0) -> 0 | AB48: =IF(U48=0,"",L48/U48-1) | AC48: =IF(W48=0,"",L48/W48-1) -> #REF!
Q49: =P49*M49 -> 0 | U49: =IF(EXACT(O49,Y49),M49,M49*(1-'Расчет ПРЕДЗАКАЗ'!$D$10)) -> 0 | V49: =P49*U49 -> 0 | W49: =IF(EXACT(O49,Y49),M49,M49*(1-#REF!)) -> #REF! | X49: =P49*W49 -> #REF! | Y49: СтопЦена | Z49: =IF(EXACT(O49,Y49),Q49,0) -> 0 | AA49: =IF(Z49=0,Q49,0) -> 0 | AB49: =IF(U49=0,"",L49/U49-1) | AC49: =IF(W49=0,"",L49/W49-1) -> #REF!
Q50: =P50*M50 -> 0 | U50: =IF(EXACT(O50,Y50),M50,M50*(1-'Расчет ПРЕДЗАКАЗ'!$D$10)) -> 0 | V50: =P50*U50 -> 0 | W50: =IF(EXACT(O50,Y50),M50,M50*(1-#REF!)) -> #REF! | X50: =P50*W50 -> #REF! | Y50: СтопЦена | Z50: =IF(EXACT(O50,Y50),Q50,0) -> 0 | AA50: =IF(Z50=0,Q50,0) -> 0 | AB50: =IF(U50=0,"",L50/U50-1) | AC50: =IF(W50=0,"",L50/W50-1) -> #REF!
Q51: =P51*M51 -> 0 | U51: =IF(EXACT(O51,Y51),M51,M51*(1-'Расчет ПРЕДЗАКАЗ'!$D$10)) -> 0 | V51: =P51*U51 -> 0 | W51: =IF(EXACT(O51,Y51),M51,M51*(1-#REF!)) -> #REF! | X51: =P51*W51 -> #REF! | Y51: СтопЦена | Z51: =IF(EXACT(O51,Y51),Q51,0) -> 0 | AA51: =IF(Z51=0,Q51,0) -> 0 | AB51: =IF(U51=0,"",L51/U51-1) | AC51: =IF(W51=0,"",L51/W51-1) -> #REF!
Q52: =P52*M52 -> 0 | U52: =IF(EXACT(O52,Y52),M52,M52*(1-'Расчет ПРЕДЗАКАЗ'!$D$10)) -> 0 | V52: =P52*U52 -> 0 | W52: =IF(EXACT(O52,Y52),M52,M52*(1-#REF!)) -> #REF! | X52: =P52*W52 -> #REF! | Y52: СтопЦена | Z52: =IF(EXACT(O52,Y52),Q52,0) -> 0 | AA52: =IF(Z52=0,Q52,0) -> 0 | AB52: =IF(U52=0,"",L52/U52-1) | AC52: =IF(W52=0,"",L52/W52-1) -> #REF!
... Q54: =P54*M54 -> 0 | U54: =IF(EXACT(O54,Y54),M54,M54*(1-'Расчет ПРЕДЗАКАЗ'!$D$10)) -> 0 | V54: =P54*U54 -> 0 | W54: =IF(EXACT(O54,Y54),M54,M54*(1-#REF!)) -> #REF! | X54: =P54*W54 -> #REF! | Y54: СтопЦена | Z54: =IF(EXACT(O54,Y54),Q54,0) -> 0 | AA54: =IF(Z54=0,Q54,0) -> 0 | AB54: =IF(U54=0,"",L54/U54-1) | AC54: =IF(W54=0,"",L54/W54-1) -> #REF!
A56: 234 | B56: 110-1102096123-112 | C56: Термобелье мужское "Inzer (Инзер)" (трикотаж, синий/графит) | D56: Фото отсутствует | F56: Ткань верха: трикотаж: полиэстер 100% | G56: синий | H56: Материал отводит влагу от тела и поддерживает комфортный микроклимат Быстросохнущая ткань удобна в активном режиме и поездках Продуманная конструкция сохраняет комфорт при длительной носке | I56: Термобельё 1-го слоя «Inzer (Инзер)» ТМ GRAYLING — выбор для рыбалки, туризма и активного отдыха в течение всего года. Материал помогает отводить влагу от тела, поддерживает терморегуляцию и быстро сохнет после нагрузки. Лёгкий полиэстеровый трикотаж эффективно отводит влагу, быстро сохнет и комфортно ощущается при длительной активности. Сезон: всесезонное | J56: WEB-Сайт | K56: р-р 44-46 рост 170-176 | L56: 2860 | M56: 1592 | N56: 04660335539376 | O56: СтопЦена | Q56: =P56*M56 -> 0 | S56: 12 | U56: =IF(EXACT(O56,Y56),M56,M56*(1-'Расчет ПРЕДЗАКАЗ'!$D$10)) -> 1592 | V56: =P56*U56 -> 0 | W56: =IF(EXACT(O56,Y56),M56,M56*(1-#REF!)) -> 1592 | X56: =P56*W56 -> 0 | Y56: СтопЦена | Z56: =IF(EXACT(O56,Y56),Q56,0) -> 0 | AA56: =IF(Z56=0,Q56,0) -> 0 | AB56: =IF(U56=0,"",L56/U56-1) -> 0.79648241 | AC56: =IF(W56=0,"",L56/W56-1) -> 0.79648241
K57: р-р 48-50 рост 170-176 | L57: 2860 | M57: 1592 | N57: 04660335539062 | O57: СтопЦена | Q57: =P57*M57 -> 0 | S57: 1 | U57: =IF(EXACT(O57,Y57),M57,M57*(1-'Расчет ПРЕДЗАКАЗ'!$D$10)) -> 1592 | V57: =P57*U57 -> 0 | W57: =IF(EXACT(O57,Y57),M57,M57*(1-#REF!)) -> 1592 | X57: =P57*W57 -> 0 | Y57: СтопЦена | Z57: =IF(EXACT(O57,Y57),Q57,0) -> 0 | AA57: =IF(Z57=0,Q57,0) -> 0 | AB57: =IF(U57=0,"",L57/U57-1) -> 0.79648241 | AC57: =IF(W57=0,"",L57/W57-1) -> 0.79648241
K58: р-р 56-58 рост 182-188 | L58: 2860 | M58: 1592 | N58: 4660335539420 | O58: СтопЦена | Q58: =P58*M58 -> 0 | S58: 1 | U58: =IF(EXACT(O58,Y58),M58,M58*(1-'Расчет ПРЕДЗАКАЗ'!$D$10)) -> 1592 | V58: =P58*U58 -> 0 | W58: =IF(EXACT(O58,Y58),M58,M58*(1-#REF!)) -> 1592 | X58: =P58*W58 -> 0 | Y58: СтопЦена | Z58: =IF(EXACT(O58,Y58),Q58,0) -> 0 | AA58: =IF(Z58=0,Q58,0) -> 0 | AB58: =IF(U58=0,"",L58/U58-1) -> 0.79648241 | AC58: =IF(W58=0,"",L58/W58-1) -> 0.79648241
K59: р-р 60-62 рост 170-176 | L59: 2860 | M59: 1592 | N59: 04660335539079 | O59: СтопЦена | Q59: =P59*M59 -> 0 | S59: 1 | U59: =IF(EXACT(O59,Y59),M59,M59*(1-'Расчет ПРЕДЗАКАЗ'!$D$10)) -> 1592 | V59: =P59*U59 -> 0 | W59: =IF(EXACT(O59,Y59),M59,M59*(1-#REF!)) -> 1592 | X59: =P59*W59 -> 0 | Y59: СтопЦена | Z59: =IF(EXACT(O59,Y59),Q59,0) -> 0 | AA59: =IF(Z59=0,Q59,0) -> 0 | AB59: =IF(U59=0,"",L59/U59-1) -> 0.79648241 | AC59: =IF(W59=0,"",L59/W59-1) -> 0.79648241
K60: р-р 60-62 рост 182-188 | L60: 2860 | M60: 1592 | N60: 04660335539437 | O60: СтопЦена | Q60: =P60*M60 -> 0 | S60: 23 | U60: =IF(EXACT(O60,Y60),M60,M60*(1-'Расчет ПРЕДЗАКАЗ'!$D$10)) -> 1592 | V60: =P60*U60 -> 0 | W60: =IF(EXACT(O60,Y60),M60,M60*(1-#REF!)) -> 1592 | X60: =P60*W60 -> 0 | Y60: СтопЦена | Z60: =IF(EXACT(O60,Y60),Q60,0) -> 0 | AA60: =IF(Z60=0,Q60,0) -> 0 | AB60: =IF(U60=0,"",L60/U60-1) -> 0.79648241 | AC60: =IF(W60=0,"",L60/W60-1) -> 0.79648241
Q61: =P61*M61 -> 0 | U61: =IF(EXACT(O61,Y61),M61,M61*(1-'Расчет ПРЕДЗАКАЗ'!$D$10)) -> 0 | V61: =P61*U61 -> 0 | W61: =IF(EXACT(O61,Y61),M61,M61*(1-#REF!)) -> #REF! | X61: =P61*W61 -> #REF! | Y61: СтопЦена | Z61: =IF(EXACT(O61,Y61),Q61,0) -> 0 | AA61: =IF(Z61=0,Q61,0) -> 0 | AB61: =IF(U61=0,"",L61/U61-1) | AC61: =IF(W61=0,"",L61/W61-1) -> #REF!
Q62: =P62*M62 -> 0 | U62: =IF(EXACT(O62,Y62),M62,M62*(1-'Расчет ПРЕДЗАКАЗ'!$D$10)) -> 0 | V62: =P62*U62 -> 0 | W62: =IF(EXACT(O62,Y62),M62,M62*(1-#REF!)) -> #REF! | X62: =P62*W62 -> #REF! | Y62: СтопЦена | Z62: =IF(EXACT(O62,Y62),Q62,0) -> 0 | AA62: =IF(Z62=0,Q62,0) -> 0 | AB62: =IF(U62=0,"",L62/U62-1) | AC62: =IF(W62=0,"",L62/W62-1) -> #REF!
Q63: =P63*M63 -> 0 | U63: =IF(EXACT(O63,Y63),M63,M63*(1-'Расчет ПРЕДЗАКАЗ'!$D$10)) -> 0 | V63: =P63*U63 -> 0 | W63: =IF(EXACT(O63,Y63),M63,M63*(1-#REF!)) -> #REF! | X63: =P63*W63 -> #REF! | Y63: СтопЦена | Z63: =IF(EXACT(O63,Y63),Q63,0) -> 0 | AA63: =IF(Z63=0,Q63,0) -> 0 | AB63: =IF(U63=0,"",L63/U63-1) | AC63: =IF(W63=0,"",L63/W63-1) -> #REF!
...

Sheet Pride
AA3: =IF(O24=СторЦена,M24*P24,) -> #NAME?
Z22: =SUM(Z24:Z804743) -> 0 | AA22: =SUM(AA24:AA804743) -> 0
A23: № | B23: Артикул | C23: Наименование как в 1С | D23: Фото Перед | F23: Ткань | G23: Цвет | H23: Особенности модели | I23: Описание | J23: Подробнее | K23: Размер | L23: РРЦ НОВАЯ | M23: оптовая | N23: Штрихкод | O23: СТОП ЦЕНА | P23: Количество ЗАКАЗ в шт (внести) | Q23: Сумма заказа в руб. по оптовой цене | S23: Остатки в шт | U23: Цена за штуку с учетом вашей скидки | V23: Сумма заказа в руб. с учетом вашей скидки | W23: Цена за штуку с учетом вашей скидки | X23: Сумма заказа в руб. с учетом вашей скидки | Z23: Расчет стоп цены | AA23: Расчет цены | AB23: Наценка РРЦ | AC23: Наценка РРЦ
A24: 383 | B24: 110-1101179123-061 | C24: Пойнтер термобелье PRIDE, лес | D24: Фото отсутствует | F24: Ткань верха: полиэстер 100% | G24: лес | H24: Технология Polygiene помогает дольше сохранять ощущение свежести Анатомический крой обеспечивает удобную посадку и свободу движений Плоские швы снижают риск натирания при длительной носке Материал отводит влагу от тела и поддерживает комфортный микроклимат Быстросохнущая ткань удобна в активном режиме и поездках | I24: Термобельё 1-го слоя «Пойнтер» ТМ PRIDE — выбор для активности на улице, поездок и повседневной носки осенью. Технология Polygiene помогает дольше сохранять ощущение свежести при активной носке. Плоские швы снижают риск натирания, а анатомичный крой делает посадку удобнее при движении. Лёгкий полиэстеровый трикотаж эффективно отводит влагу, быстро сохнет и комфортно ощущается при длительной активности. Сезон: осень | J24: WEB-Сайт | K24: р-р 44-46 рост 170-176 | L24: 3620 | M24: 2260 | N24: 4660335532247 | O24: СтопЦена | Q24: =P24*M24 -> 0 | S24: 19 | U24: =IF(EXACT(O24,Y24),M24,M24*(1-'Расчет ПРЕДЗАКАЗ'!$D$10)) -> 2260 | V24: =P24*U24 -> 0 | W24: =IF(EXACT(O24,Y24),M24,M24*(1-#REF!)) -> 2260 | X24: =P24*W24 -> 0 | Y24: СтопЦена | Z24: =IF(EXACT(O24,Y24),Q24,0) -> 0 | AA24: =IF(Z24=0,Q24,0) -> 0 | AB24: =IF(U24=0,"",L24/U24-1) -> 0.60176991 | AC24: =IF(W24=0,"",L24/W24-1) -> 0.60176991
K25: р-р 48-50 рост 182-188 | L25: 3620 | M25: 2260 | N25: 4660335532261 | O25: СтопЦена | Q25: =P25*M25 -> 0 | S25: 4 | U25: =IF(EXACT(O25,Y25),M25,M25*(1-'Расчет ПРЕДЗАКАЗ'!$D$10)) -> 2260 | V25: =P25*U25 -> 0 | W25: =IF(EXACT(O25,Y25),M25,M25*(1-#REF!)) -> 2260 | X25: =P25*W25 -> 0 | Y25: СтопЦена | Z25: =IF(EXACT(O25,Y25),Q25,0) -> 0 | AA25: =IF(Z25=0,Q25,0) -> 0 | AB25: =IF(U25=0,"",L25/U25-1) -> 0.60176991 | AC25: =IF(W25=0,"",L25/W25-1) -> 0.60176991
L26: =M26-M26*30% -> 0 | Q26: =P26*M26 -> 0 | U26: =IF(EXACT(O26,Y26),M26,M26*(1-'Расчет ПРЕДЗАКАЗ'!$D$10)) -> 0 | V26: =P26*U26 -> 0 | W26: =IF(EXACT(O26,Y26),M26,M26*(1-#REF!)) -> #REF! | X26: =P26*W26 -> #REF! | Y26: СтопЦена | Z26: =IF(EXACT(O26,Y26),Q26,0) -> 0 | AA26: =IF(Z26=0,Q26,0) -> 0 | AB26: =IF(U26=0,"",L26/U26-1) | AC26: =IF(W26=0,"",L26/W26-1) -> #REF!
L27: =M27-M27*30% -> 0 | Q27: =P27*M27 -> 0 | U27: =IF(EXACT(O27,Y27),M27,M27*(1-'Расчет ПРЕДЗАКАЗ'!$D$10)) -> 0 | V27: =P27*U27 -> 0 | W27: =IF(EXACT(O27,Y27),M27,M27*(1-#REF!)) -> #REF! | X27: =P27*W27 -> #REF! | Y27: СтопЦена | Z27: =IF(EXACT(O27,Y27),Q27,0) -> 0 | AA27: =IF(Z27=0,Q27,0) -> 0 | AB27: =IF(U27=0,"",L27/U27-1) | AC27: =IF(W27=0,"",L27/W27-1) -> #REF!
L28: =M28-M28*30% -> 0 | Q28: =P28*M28 -> 0 | U28: =IF(EXACT(O28,Y28),M28,M28*(1-'Расчет ПРЕДЗАКАЗ'!$D$10)) -> 0 | V28: =P28*U28 -> 0 | W28: =IF(EXACT(O28,Y28),M28,M28*(1-#REF!)) -> #REF! | X28: =P28*W28 -> #REF! | Y28: СтопЦена | Z28: =IF(EXACT(O28,Y28),Q28,0) -> 0 | AA28: =IF(Z28=0,Q28,0) -> 0 | AB28: =IF(U28=0,"",L28/U28-1) | AC28: =IF(W28=0,"",L28/W28-1) -> #REF!
L29: =M29-M29*30% -> 0 | Q29: =P29*M29 -> 0 | U29: =IF(EXACT(O29,Y29),M29,M29*(1-'Расчет ПРЕДЗАКАЗ'!$D$10)) -> 0 | V29: =P29*U29 -> 0 | W29: =IF(EXACT(O29,Y29),M29,M29*(1-#REF!)) -> #REF! | X29: =P29*W29 -> #REF! | Y29: СтопЦена | Z29: =IF(EXACT(O29,Y29),Q29,0) -> 0 | AA29: =IF(Z29=0,Q29,0) -> 0 | AB29: =IF(U29=0,"",L29/U29-1) | AC29: =IF(W29=0,"",L29/W29-1) -> #REF!
L30: =M30-M30*30% -> 0 | Q30: =P30*M30 -> 0 | U30: =IF(EXACT(O30,Y30),M30,M30*(1-'Расчет ПРЕДЗАКАЗ'!$D$10)) -> 0 | V30: =P30*U30 -> 0 | W30: =IF(EXACT(O30,Y30),M30,M30*(1-#REF!)) -> #REF! | X30: =P30*W30 -> #REF! | Y30: СтопЦена | Z30: =IF(EXACT(O30,Y30),Q30,0) -> 0 | AA30: =IF(Z30=0,Q30,0) -> 0 | AB30: =IF(U30=0,"",L30/U30-1) | AC30: =IF(W30=0,"",L30/W30-1) -> #REF!
L31: =M31-M31*30% -> 0 | Q31: =P31*M31 -> 0 | U31: =IF(EXACT(O31,Y31),M31,M31*(1-'Расчет ПРЕДЗАКАЗ'!$D$10)) -> 0 | V31: =P31*U31 -> 0 | W31: =IF(EXACT(O31,Y31),M31,M31*(1-#REF!)) -> #REF! | X31: =P31*W31 -> #REF! | Y31: СтопЦена | Z31: =IF(EXACT(O31,Y31),Q31,0) -> 0 | AA31: =IF(Z31=0,Q31,0) -> 0 | AB31: =IF(U31=0,"",L31/U31-1) | AC31: =IF(W31=0,"",L31/W31-1) -> #REF!
L32: =M32-M32*30% -> 0 | Q32: =P32*M32 -> 0 | U32: =IF(EXACT(O32,Y32),M32,M32*(1-'Расчет ПРЕДЗАКАЗ'!$D$10)) -> 0 | V32: =P32*U32 -> 0 | W32: =IF(EXACT(O32,Y32),M32,M32*(1-#REF!)) -> #REF! | X32: =P32*W32 -> #REF! | Y32: СтопЦена | Z32: =IF(EXACT(O32,Y32),Q32,0) -> 0 | AA32: =IF(Z32=0,Q32,0) -> 0 | AB32: =IF(U32=0,"",L32/U32-1) | AC32: =IF(W32=0,"",L32/W32-1) -> #REF!
L33: =M33-M33*30% -> 0 | Q33: =P33*M33 -> 0 | U33: =IF(EXACT(O33,Y33),M33,M33*(1-'Расчет ПРЕДЗАКАЗ'!$D$10)) -> 0 | V33: =P33*U33 -> 0 | W33: =IF(EXACT(O33,Y33),M33,M33*(1-#REF!)) -> #REF! | X33: =P33*W33 -> #REF! | Y33: СтопЦена | Z33: =IF(EXACT(O33,Y33),Q33,0) -> 0 | AA33: =IF(Z33=0,Q33,0) -> 0 | AB33: =IF(U33=0,"",L33/U33-1) | AC33: =IF(W33=0,"",L33/W33-1) -> #REF!
L34: =M34-M34*30% -> 0 | Q34: =P34*M34 -> 0 | U34: =IF(EXACT(O34,Y34),M34,M34*(1-'Расчет ПРЕДЗАКАЗ'!$D$10)) -> 0 | V34: =P34*U34 -> 0 | W34: =IF(EXACT(O34,Y34),M34,M34*(1-#REF!)) -> #REF! | X34: =P34*W34 -> #REF! | Y34: СтопЦена | Z34: =IF(EXACT(O34,Y34),Q34,0) -> 0 | AA34: =IF(Z34=0,Q34,0) -> 0 | AB34: =IF(U34=0,"",L34/U34-1) | AC34: =IF(W34=0,"",L34/W34-1) -> #REF!
L35: =M35-M35*30% -> 0 | Q35: =P35*M35 -> 0 | U35: =IF(EXACT(O35,Y35),M35,M35*(1-'Расчет ПРЕДЗАКАЗ'!$D$10)) -> 0 | V35: =P35*U35 -> 0 | W35: =IF(EXACT(O35,Y35),M35,M35*(1-#REF!)) -> #REF! | X35: =P35*W35 -> #REF! | Y35: СтопЦена | Z35: =IF(EXACT(O35,Y35),Q35,0) -> 0 | AA35: =IF(Z35=0,Q35,0) -> 0 | AB35: =IF(U35=0,"",L35/U35-1) | AC35: =IF(W35=0,"",L35/W35-1) -> #REF!
L36: =M36-M36*30% -> 0 | Q36: =P36*M36 -> 0 | U36: =IF(EXACT(O36,Y36),M36,M36*(1-'Расчет ПРЕДЗАКАЗ'!$D$10)) -> 0 | V36: =P36*U36 -> 0 | W36: =IF(EXACT(O36,Y36),M36,M36*(1-#REF!)) -> #REF! | X36: =P36*W36 -> #REF! | Y36: СтопЦена | Z36: =IF(EXACT(O36,Y36),Q36,0) -> 0 | AA36: =IF(Z36=0,Q36,0) -> 0 | AB36: =IF(U36=0,"",L36/U36-1) | AC36: =IF(W36=0,"",L36/W36-1) -> #REF!
L37: =M37-M37*30% -> 0 | Q37: =P37*M37 -> 0 | U37: =IF(EXACT(O37,Y37),M37,M37*(1-'Расчет ПРЕДЗАКАЗ'!$D$10)) -> 0 | V37: =P37*U37 -> 0 | W37: =IF(EXACT(O37,Y37),M37,M37*(1-#REF!)) -> #REF! | X37: =P37*W37 -> #REF! | Y37: СтопЦена | Z37: =IF(EXACT(O37,Y37),Q37,0) -> 0 | AA37: =IF(Z37=0,Q37,0) -> 0 | AB37: =IF(U37=0,"",L37/U37-1) | AC37: =IF(W37=0,"",L37/W37-1) -> #REF!
L38: =M38-M38*30% -> 0 | Q38: =P38*M38 -> 0 | U38: =IF(EXACT(O38,Y38),M38,M38*(1-'Расчет ПРЕДЗАКАЗ'!$D$10)) -> 0 | V38: =P38*U38 -> 0 | W38: =IF(EXACT(O38,Y38),M38,M38*(1-#REF!)) -> #REF! | X38: =P38*W38 -> #REF! | Y38: СтопЦена | Z38: =IF(EXACT(O38,Y38),Q38,0) -> 0 | AA38: =IF(Z38=0,Q38,0) -> 0 | AB38: =IF(U38=0,"",L38/U38-1) | AC38: =IF(W38=0,"",L38/W38-1) -> #REF!
A40: 384 | B40: 110-1101179123-050 | C40: Пойнтер термобелье PRIDE, камыш | D40: Фото отсутствует | F40: Ткань верха: полиэстер 100% | G40: камыш | H40: Технология Polygiene помогает дольше сохранять ощущение свежести Анатомический крой обеспечивает удобную посадку и свободу движений Плоские швы снижают риск натирания при длительной носке Материал отводит влагу от тела и поддерживает комфортный микроклимат Быстросохнущая ткань удобна в активном режиме и поездках | I40: Термобельё 1-го слоя «Пойнтер» ТМ PRIDE — выбор для активности на улице, поездок и повседневной носки осенью. Технология Polygiene помогает дольше сохранять ощущение свежести при активной носке. Плоские швы снижают риск натирания, а анатомичный крой делает посадку удобнее при движении. Лёгкий полиэстеровый трикотаж эффективно отводит влагу, быстро сохнет и комфортно ощущается при длительной активности. Сезон: осень | J40: WEB-Сайт | K40: р-р 44-46 рост 170-176 | L40: 5120 | M40: 3200 | N40: 4660335532063 | Q40: =P40*M40 -> 0 | S40: 13 | U40: =IF(EXACT(O40,Y40),M40,M40*(1-'Расчет ПРЕДЗАКАЗ'!$D$10)) -> 3136 | V40: =P40*U40 -> 0 | W40: =IF(EXACT(O40,Y40),M40,M40*(1-#REF!)) -> #REF! | X40: =P40*W40 -> #REF! | Y40: СтопЦена | Z40: =IF(EXACT(O40,Y40),Q40,0) -> 0 | AA40: =IF(Z40=0,Q40,0) -> 0 | AB40: =IF(U40=0,"",L40/U40-1) -> 0.63265306 | AC40: =IF(W40=0,"",L40/W40-1) -> #REF!
K41: р-р 48-50 рост 170-176 | L41: 5120 | M41: 3200 | N41: 4660335532070 | Q41: =P41*M41 -> 0 | S41: 12 | U41: =IF(EXACT(O41,Y41),M41,M41*(1-'Расчет ПРЕДЗАКАЗ'!$D$10)) -> 3136 | V41: =P41*U41 -> 0 | W41: =IF(EXACT(O41,Y41),M41,M41*(1-#REF!)) -> #REF! | X41: =P41*W41 -> #REF! | Y41: СтопЦена | Z41: =IF(EXACT(O41,Y41),Q41,0) -> 0 | AA41: =IF(Z41=0,Q41,0) -> 0 | AB41: =IF(U41=0,"",L41/U41-1) -> 0.63265306 | AC41: =IF(W41=0,"",L41/W41-1) -> #REF!
K42: р-р 60-62 рост 170-176 | L42: 5120 | M42: 3200 | N42: 4660335532131 | Q42: =P42*M42 -> 0 | S42: 1 | U42: =IF(EXACT(O42,Y42),M42,M42*(1-'Расчет ПРЕДЗАКАЗ'!$D$10)) -> 3136 | V42: =P42*U42 -> 0 | W42: =IF(EXACT(O42,Y42),M42,M42*(1-#REF!)) -> #REF! | X42: =P42*W42 -> #REF! | Y42: СтопЦена | Z42: =IF(EXACT(O42,Y42),Q42,0) -> 0 | AA42: =IF(Z42=0,Q42,0) -> 0 | AB42: =IF(U42=0,"",L42/U42-1) -> 0.63265306 | AC42: =IF(W42=0,"",L42/W42-1) -> #REF!
Q43: =P43*M43 -> 0 | U43: =IF(EXACT(O43,Y43),M43,M43*(1-'Расчет ПРЕДЗАКАЗ'!$D$10)) -> 0 | V43: =P43*U43 -> 0 | W43: =IF(EXACT(O43,Y43),M43,M43*(1-#REF!)) -> #REF! | X43: =P43*W43 -> #REF! | Y43: СтопЦена | Z43: =IF(EXACT(O43,Y43),Q43,0) -> 0 | AA43: =IF(Z43=0,Q43,0) -> 0 | AB43: =IF(U43=0,"",L43/U43-1) | AC43: =IF(W43=0,"",L43/W43-1) -> #REF!
Q44: =P44*M44 -> 0 | U44: =IF(EXACT(O44,Y44),M44,M44*(1-'Расчет ПРЕДЗАКАЗ'!$D$10)) -> 0 | V44: =P44*U44 -> 0 | W44: =IF(EXACT(O44,Y44),M44,M44*(1-#REF!)) -> #REF! | X44: =P44*W44 -> #REF! | Y44: СтопЦена | Z44: =IF(EXACT(O44,Y44),Q44,0) -> 0 | AA44: =IF(Z44=0,Q44,0) -> 0 | AB44: =IF(U44=0,"",L44/U44-1) | AC44: =IF(W44=0,"",L44/W44-1) -> #REF!
Q45: =P45*M45 -> 0 | U45: =IF(EXACT(O45,Y45),M45,M45*(1-'Расчет ПРЕДЗАКАЗ'!$D$10)) -> 0 | V45: =P45*U45 -> 0 | W45: =IF(EXACT(O45,Y45),M45,M45*(1-#REF!)) -> #REF! | X45: =P45*W45 -> #REF! | Y45: СтопЦена | Z45: =IF(EXACT(O45,Y45),Q45,0) -> 0 | AA45: =IF(Z45=0,Q45,0) -> 0 | AB45: =IF(U45=0,"",L45/U45-1) | AC45: =IF(W45=0,"",L45/W45-1) -> #REF!
Q46: =P46*M46 -> 0 | U46: =IF(EXACT(O46,Y46),M46,M46*(1-'Расчет ПРЕДЗАКАЗ'!$D$10)) -> 0 | V46: =P46*U46 -> 0 | W46: =IF(EXACT(O46,Y46),M46,M46*(1-#REF!)) -> #REF! | X46: =P46*W46 -> #REF! | Y46: СтопЦена | Z46: =IF(EXACT(O46,Y46),Q46,0) -> 0 | AA46: =IF(Z46=0,Q46,0) -> 0 | AB46: =IF(U46=0,"",L46/U46-1) | AC46: =IF(W46=0,"",L46/W46-1) -> #REF!
Q47: =P47*M47 -> 0 | U47: =IF(EXACT(O47,Y47),M47,M47*(1-'Расчет ПРЕДЗАКАЗ'!$D$10)) -> 0 | V47: =P47*U47 -> 0 | W47: =IF(EXACT(O47,Y47),M47,M47*(1-#REF!)) -> #REF! | X47: =P47*W47 -> #REF! | Y47: СтопЦена | Z47: =IF(EXACT(O47,Y47),Q47,0) -> 0 | AA47: =IF(Z47=0,Q47,0) -> 0 | AB47: =IF(U47=0,"",L47/U47-1) | AC47: =IF(W47=0,"",L47/W47-1) -> #REF!
Q48: =P48*M48 -> 0 | U48: =IF(EXACT(O48,Y48),M48,M48*(1-'Расчет ПРЕДЗАКАЗ'!$D$10)) -> 0 | V48: =P48*U48 -> 0 | W48: =IF(EXACT(O48,Y48),M48,M48*(1-#REF!)) -> #REF! | X48: =P48*W48 -> #REF! | Y48: СтопЦена | Z48: =IF(EXACT(O48,Y48),Q48,0) -> 0 | AA48: =IF(Z48=0,Q48,0) -> 0 | AB48: =IF(U48=0,"",L48/U48-1) | AC48: =IF(W48=0,"",L48/W48-1) -> #REF!
Q49: =P49*M49 -> 0 | U49: =IF(EXACT(O49,Y49),M49,M49*(1-'Расчет ПРЕДЗАКАЗ'!$D$10)) -> 0 | V49: =P49*U49 -> 0 | W49: =IF(EXACT(O49,Y49),M49,M49*(1-#REF!)) -> #REF! | X49: =P49*W49 -> #REF! | Y49: СтопЦена | Z49: =IF(EXACT(O49,Y49),Q49,0) -> 0 | AA49: =IF(Z49=0,Q49,0) -> 0 | AB49: =IF(U49=0,"",L49/U49-1) | AC49: =IF(W49=0,"",L49/W49-1) -> #REF!
Q50: =P50*M50 -> 0 | U50: =IF(EXACT(O50,Y50),M50,M50*(1-'Расчет ПРЕДЗАКАЗ'!$D$10)) -> 0 | V50: =P50*U50 -> 0 | W50: =IF(EXACT(O50,Y50),M50,M50*(1-#REF!)) -> #REF! | X50: =P50*W50 -> #REF! | Y50: СтопЦена | Z50: =IF(EXACT(O50,Y50),Q50,0) -> 0 | AA50: =IF(Z50=0,Q50,0) -> 0 | AB50: =IF(U50=0,"",L50/U50-1) | AC50: =IF(W50=0,"",L50/W50-1) -> #REF!
Q51: =P51*M51 -> 0 | U51: =IF(EXACT(O51,Y51),M51,M51*(1-'Расчет ПРЕДЗАКАЗ'!$D$10)) -> 0 | V51: =P51*U51 -> 0 | W51: =IF(EXACT(O51,Y51),M51,M51*(1-#REF!)) -> #REF! | X51: =P51*W51 -> #REF! | Y51: СтопЦена | Z51: =IF(EXACT(O51,Y51),Q51,0) -> 0 | AA51: =IF(Z51=0,Q51,0) -> 0 | AB51: =IF(U51=0,"",L51/U51-1) | AC51: =IF(W51=0,"",L51/W51-1) -> #REF!
Q52: =P52*M52 -> 0 | U52: =IF(EXACT(O52,Y52),M52,M52*(1-'Расчет ПРЕДЗАКАЗ'!$D$10)) -> 0 | V52: =P52*U52 -> 0 | W52: =IF(EXACT(O52,Y52),M52,M52*(1-#REF!)) -> #REF! | X52: =P52*W52 -> #REF! | Y52: СтопЦена | Z52: =IF(EXACT(O52,Y52),Q52,0) -> 0 | AA52: =IF(Z52=0,Q52,0) -> 0 | AB52: =IF(U52=0,"",L52/U52-1) | AC52: =IF(W52=0,"",L52/W52-1) -> #REF!
Q53: =P53*M53 -> 0 | U53: =IF(EXACT(O53,Y53),M53,M53*(1-'Расчет ПРЕДЗАКАЗ'!$D$10)) -> 0 | V53: =P53*U53 -> 0 | W53: =IF(EXACT(O53,Y53),M53,M53*(1-#REF!)) -> #REF! | X53: =P53*W53 -> #REF! | Y53: СтопЦена | Z53: =IF(EXACT(O53,Y53),Q53,0) -> 0 | AA53: =IF(Z53=0,Q53,0) -> 0 | AB53: =IF(U53=0,"",L53/U53-1) | AC53: =IF(W53=0,"",L53/W53-1) -> #REF!
Q54: =P54*M54 -> 0 | U54: =IF(EXACT(O54,Y54),M54,M54*(1-'Расчет ПРЕДЗАКАЗ'!$D$10)) -> 0 | V54: =P54*U54 -> 0 | W54: =IF(EXACT(O54,Y54),M54,M54*(1-#REF!)) -> #REF! | X54: =P54*W54 -> #REF! | Y54: СтопЦена | Z54: =IF(EXACT(O54,Y54),Q54,0) -> 0 | AA54: =IF(Z54=0,Q54,0) -> 0 | AB54: =IF(U54=0,"",L54/U54-1) | AC54: =IF(W54=0,"",L54/W54-1) -> #REF!
A56: 385 | B56: 110-1101179123-054 | C56: Пойнтер термобелье PRIDE, коричневый | D56: Фото отсутствует | F56: Ткань верха: полиэстер 100% | G56: коричневый | H56: Технология Polygiene помогает дольше сохранять ощущение свежести Анатомический крой обеспечивает удобную посадку и свободу движений Плоские швы снижают риск натирания при длительной носке Материал отводит влагу от тела и поддерживает комфортный микроклимат Быстросохнущая ткань удобна в активном режиме и поездках | I56: Термобельё 1-го слоя «Пойнтер» ТМ PRIDE — выбор для активности на улице, поездок и повседневной носки осенью. Технология Polygiene помогает дольше сохранять ощущение свежести при активной носке. Плоские швы снижают риск натирания, а анатомичный крой делает посадку удобнее при движении. Лёгкий полиэстеровый трикотаж эффективно отводит влагу, быстро сохнет и комфортно ощущается при длительной активности. Сезон: осень | J56: WEB-Сайт | K56: р-р 44-46 рост 170-176 | L56: 3250 | M56: 2030 | N56: 4660335532155 | O56: СтопЦена | Q56: =P56*M56 -> 0 | S56: 203 | U56: =IF(EXACT(O56,Y56),M56,M56*(1-'Расчет ПРЕДЗАКАЗ'!$D$10)) -> 2030 | V56: =P56*U56 -> 0 | W56: =IF(EXACT(O56,Y56),M56,M56*(1-#REF!)) -> 2030 | X56: =P56*W56 -> 0 | Y56: СтопЦена | Z56: =IF(EXACT(O56,Y56),Q56,0) -> 0 | AA56: =IF(Z56=0,Q56,0) -> 0 | AB56: =IF(U56=0,"",L56/U56-1) -> 0.60098522 | AC56: =IF(W56=0,"",L56/W56-1) -> 0.60098522
K57: р-р 48-50 рост 170-176 | L57: 3250 | M57: 2030 | N57: 4660335532162 | O57: СтопЦена | Q57: =P57*M57 -> 0 | S57: 292 | U57: =IF(EXACT(O57,Y57),M57,M57*(1-'Расчет ПРЕДЗАКАЗ'!$D$10)) -> 2030 | V57: =P57*U57 -> 0 | W57: =IF(EXACT(O57,Y57),M57,M57*(1-#REF!)) -> 2030 | X57: =P57*W57 -> 0 | Y57: СтопЦена | Z57: =IF(EXACT(O57,Y57),Q57,0) -> 0 | AA57: =IF(Z57=0,Q57,0) -> 0 | AB57: =IF(U57=0,"",L57/U57-1) -> 0.60098522 | AC57: =IF(W57=0,"",L57/W57-1) -> 0.60098522
K58: р-р 48-50 рост 182-188 | L58: 3250 | M58: 2030 | N58: 4660335532179 | O58: СтопЦена | Q58: =P58*M58 -> 0 | S58: 91 | U58: =IF(EXACT(O58,Y58),M58,M58*(1-'Расчет ПРЕДЗАКАЗ'!$D$10)) -> 2030 | V58: =P58*U58 -> 0 | W58: =IF(EXACT(O58,Y58),M58,M58*(1-#REF!)) -> 2030 | X58: =P58*W58 -> 0 | Y58: СтопЦена | Z58: =IF(EXACT(O58,Y58),Q58,0) -> 0 | AA58: =IF(Z58=0,Q58,0) -> 0 | AB58: =IF(U58=0,"",L58/U58-1) -> 0.60098522 | AC58: =IF(W58=0,"",L58/W58-1) -> 0.60098522
K59: р-р 52-54 рост 170-176 | L59: 3250 | M59: 2030 | N59: 4660335532186 | O59: СтопЦена | Q59: =P59*M59 -> 0 | S59: 343 | U59: =IF(EXACT(O59,Y59),M59,M59*(1-'Расчет ПРЕДЗАКАЗ'!$D$10)) -> 2030 | V59: =P59*U59 -> 0 | W59: =IF(EXACT(O59,Y59),M59,M59*(1-#REF!)) -> 2030 | X59: =P59*W59 -> 0 | Y59: СтопЦена | Z59: =IF(EXACT(O59,Y59),Q59,0) -> 0 | AA59: =IF(Z59=0,Q59,0) -> 0 | AB59: =IF(U59=0,"",L59/U59-1) -> 0.60098522 | AC59: =IF(W59=0,"",L59/W59-1) -> 0.60098522
K60: р-р 52-54 рост 182-188 | L60: 3250 | M60: 2030 | N60: 4660335532193 | O60: СтопЦена | Q60: =P60*M60 -> 0 | S60: 5 | U60: =IF(EXACT(O60,Y60),M60,M60*(1-'Расчет ПРЕДЗАКАЗ'!$D$10)) -> 2030 | V60: =P60*U60 -> 0 | W60: =IF(EXACT(O60,Y60),M60,M60*(1-#REF!)) -> 2030 | X60: =P60*W60 -> 0 | Y60: СтопЦена | Z60: =IF(EXACT(O60,Y60),Q60,0) -> 0 | AA60: =IF(Z60=0,Q60,0) -> 0 | AB60: =IF(U60=0,"",L60/U60-1) -> 0.60098522 | AC60: =IF(W60=0,"",L60/W60-1) -> 0.60098522
K61: р-р 56-58 рост 170-176 | L61: 3250 | M61: 2030 | N61: 4660335532209 | O61: СтопЦена | Q61: =P61*M61 -> 0 | S61: 161 | U61: =IF(EXACT(O61,Y61),M61,M61*(1-'Расчет ПРЕДЗАКАЗ'!$D$10)) -> 2030 | V61: =P61*U61 -> 0 | W61: =IF(EXACT(O61,Y61),M61,M61*(1-#REF!)) -> 2030 | X61: =P61*W61 -> 0 | Y61: СтопЦена | Z61: =IF(EXACT(O61,Y61),Q61,0) -> 0 | AA61: =IF(Z61=0,Q61,0) -> 0 | AB61: =IF(U61=0,"",L61/U61-1) -> 0.60098522 | AC61: =IF(W61=0,"",L61/W61-1) -> 0.60098522
K62: р-р 60-62 рост 170-176 | L62: 3250 | M62: 2030 | N62: 4660335532223 | O62: СтопЦена | Q62: =P62*M62 -> 0 | S62: 55 | U62: =IF(EXACT(O62,Y62),M62,M62*(1-'Расчет ПРЕДЗАКАЗ'!$D$10)) -> 2030 | V62: =P62*U62 -> 0 | W62: =IF(EXACT(O62,Y62),M62,M62*(1-#REF!)) -> 2030 | X62: =P62*W62 -> 0 | Y62: СтопЦена | Z62: =IF(EXACT(O62,Y62),Q62,0) -> 0 | AA62: =IF(Z62=0,Q62,0) -> 0 | AB62: =IF(U62=0,"",L62/U62-1) -> 0.60098522 | AC62: =IF(W62=0,"",L62/W62-1) -> 0.60098522
...

Sheet Payer
AA3: =IF(O24=СторЦена,M24*P24,) -> #NAME?
Z22: =SUM(Z24:Z776519) -> 0 | AA22: =SUM(AA24:AA776519) -> 0
A23: № | B23: Артикул | C23: Наименование как в 1С | D23: Фото Перед | F23: Ткань | G23: Цвет | H23: Особенности модели | I23: Описание | J23: Подробнее | K23: Размер | L23: РРЦ НОВАЯ | M23: оптовая | N23: Штрихкод | O23: СТОП ЦЕНА | P23: Количество ЗАКАЗ в шт (внести) | Q23: Сумма заказа в руб. по оптовой цене | S23: Остатки в шт | U23: Цена за штуку с учетом вашей скидки | V23: Сумма заказа в руб. с учетом вашей скидки | W23: Цена за штуку с учетом вашей скидки | X23: Сумма заказа в руб. с учетом вашей скидки | Z23: Расчет стоп цены | AA23: Расчет цены | AB23: Наценка РРЦ | AC23: Наценка РРЦ
A24: 506 | B24: 110-1103084123-100 | C24: Дуо Скин термобелье PAYER, серый | D24: Фото отсутствует | F24: Ткань верха: полиэстер 100% | G24: серый | H24: анатомический крой плоские швы | I24: Термобелье Duo Skin NOVATEX – Ваш идеальный партнер в мире активных приключений! Это революционное термобелье первого слоя создано для того, чтобы обеспечить Вам максимальный комфорт и защиту в любых условиях. Его главная задача – активно отводить влагу от кожи, поддерживая идеальную терморегуляцию и даря ощущение свежести. Duo Skin – это универсальное решение для круглогодичного использования. Независимо от сезона, Вы можете комбинировать его с любой дышащей экипировкой. Идеально подходит для зимних видов спорта, таких как катание на лыжах и коньках, а также для походов и активного отдыха на природе. Вам больше не придется беспокоиться о дискомфорте: термобелье заботится о Вас, позволяя сосредоточиться на том, что действительно важно – насладиться каждым моментом. С Duo Skin каждый Ваш шаг будет легким и уверенным. Выберите качество и интеллект в одежде – выберите термобелье, которое подстраивается под Ваши активные дни! | J24: WEB-Сайт | K24: р-р 44-46 рост 170-176 | L24: 3650 | M24: 2284 | N24: 4660335521432 | Q24: =P24*M24 -> 0 | S24: 85 | U24: =IF(EXACT(O24,Y24),M24,M24*(1-'Расчет ПРЕДЗАКАЗ'!$D$10)) -> 2238.32 | V24: =P24*U24 -> 0 | W24: =IF(EXACT(O24,Y24),M24,M24*(1-#REF!)) -> #REF! | X24: =P24*W24 -> #REF! | Y24: СтопЦена | Z24: =IF(EXACT(O24,Y24),Q24,0) -> 0 | AA24: =IF(Z24=0,Q24,0) -> 0 | AB24: =IF(U24=0,"",L24/U24-1) -> 0.6306873 | AC24: =IF(W24=0,"",L24/W24-1) -> #REF!
K25: р-р 48-50 рост 170-176 | L25: 3650 | M25: 2284 | N25: 4660335521449 | Q25: =P25*M25 -> 0 | S25: 228 | U25: =IF(EXACT(O25,Y25),M25,M25*(1-'Расчет ПРЕДЗАКАЗ'!$D$10)) -> 2238.32 | V25: =P25*U25 -> 0 | W25: =IF(EXACT(O25,Y25),M25,M25*(1-#REF!)) -> #REF! | X25: =P25*W25 -> #REF! | Y25: СтопЦена | Z25: =IF(EXACT(O25,Y25),Q25,0) -> 0 | AA25: =IF(Z25=0,Q25,0) -> 0 | AB25: =IF(U25=0,"",L25/U25-1) -> 0.6306873 | AC25: =IF(W25=0,"",L25/W25-1) -> #REF!
K26: р-р 48-50 рост 182-188 | L26: 3650 | M26: 2284 | N26: 4660335521456 | Q26: =P26*M26 -> 0 | S26: 68 | U26: =IF(EXACT(O26,Y26),M26,M26*(1-'Расчет ПРЕДЗАКАЗ'!$D$10)) -> 2238.32 | V26: =P26*U26 -> 0 | W26: =IF(EXACT(O26,Y26),M26,M26*(1-#REF!)) -> #REF! | X26: =P26*W26 -> #REF! | Y26: СтопЦена | Z26: =IF(EXACT(O26,Y26),Q26,0) -> 0 | AA26: =IF(Z26=0,Q26,0) -> 0 | AB26: =IF(U26=0,"",L26/U26-1) -> 0.6306873 | AC26: =IF(W26=0,"",L26/W26-1) -> #REF!
K27: р-р 52-54 рост 170-176 | L27: 3650 | M27: 2284 | N27: 4660335521463 | Q27: =P27*M27 -> 0 | S27: 171 | U27: =IF(EXACT(O27,Y27),M27,M27*(1-'Расчет ПРЕДЗАКАЗ'!$D$10)) -> 2238.32 | V27: =P27*U27 -> 0 | W27: =IF(EXACT(O27,Y27),M27,M27*(1-#REF!)) -> #REF! | X27: =P27*W27 -> #REF! | Y27: СтопЦена | Z27: =IF(EXACT(O27,Y27),Q27,0) -> 0 | AA27: =IF(Z27=0,Q27,0) -> 0 | AB27: =IF(U27=0,"",L27/U27-1) -> 0.6306873 | AC27: =IF(W27=0,"",L27/W27-1) -> #REF!
K28: р-р 52-54 рост 182-188 | L28: 3650 | M28: 2284 | N28: 4660335521470 | Q28: =P28*M28 -> 0 | S28: 152 | U28: =IF(EXACT(O28,Y28),M28,M28*(1-'Расчет ПРЕДЗАКАЗ'!$D$10)) -> 2238.32 | V28: =P28*U28 -> 0 | W28: =IF(EXACT(O28,Y28),M28,M28*(1-#REF!)) -> #REF! | X28: =P28*W28 -> #REF! | Y28: СтопЦена | Z28: =IF(EXACT(O28,Y28),Q28,0) -> 0 | AA28: =IF(Z28=0,Q28,0) -> 0 | AB28: =IF(U28=0,"",L28/U28-1) -> 0.6306873 | AC28: =IF(W28=0,"",L28/W28-1) -> #REF!
K29: р-р 56-58 рост 170-176 | L29: 3650 | M29: 2284 | N29: 4660335521487 | Q29: =P29*M29 -> 0 | S29: 89 | U29: =IF(EXACT(O29,Y29),M29,M29*(1-'Расчет ПРЕДЗАКАЗ'!$D$10)) -> 2238.32 | V29: =P29*U29 -> 0 | W29: =IF(EXACT(O29,Y29),M29,M29*(1-#REF!)) -> #REF! | X29: =P29*W29 -> #REF! | Y29: СтопЦена | Z29: =IF(EXACT(O29,Y29),Q29,0) -> 0 | AA29: =IF(Z29=0,Q29,0) -> 0 | AB29: =IF(U29=0,"",L29/U29-1) -> 0.6306873 | AC29: =IF(W29=0,"",L29/W29-1) -> #REF!
K30: р-р 56-58 рост 182-188 | L30: 3650 | M30: 2284 | N30: 4660335521494 | Q30: =P30*M30 -> 0 | S30: 60 | U30: =IF(EXACT(O30,Y30),M30,M30*(1-'Расчет ПРЕДЗАКАЗ'!$D$10)) -> 2238.32 | V30: =P30*U30 -> 0 | W30: =IF(EXACT(O30,Y30),M30,M30*(1-#REF!)) -> #REF! | X30: =P30*W30 -> #REF! | Y30: СтопЦена | Z30: =IF(EXACT(O30,Y30),Q30,0) -> 0 | AA30: =IF(Z30=0,Q30,0) -> 0 | AB30: =IF(U30=0,"",L30/U30-1) -> 0.6306873 | AC30: =IF(W30=0,"",L30/W30-1) -> #REF!
K31: р-р 60-62 рост 170-176 | L31: 3650 | M31: 2284 | N31: 4660335521500 | Q31: =P31*M31 -> 0 | S31: 18 | U31: =IF(EXACT(O31,Y31),M31,M31*(1-'Расчет ПРЕДЗАКАЗ'!$D$10)) -> 2238.32 | V31: =P31*U31 -> 0 | W31: =IF(EXACT(O31,Y31),M31,M31*(1-#REF!)) -> #REF! | X31: =P31*W31 -> #REF! | Y31: СтопЦена | Z31: =IF(EXACT(O31,Y31),Q31,0) -> 0 | AA31: =IF(Z31=0,Q31,0) -> 0 | AB31: =IF(U31=0,"",L31/U31-1) -> 0.6306873 | AC31: =IF(W31=0,"",L31/W31-1) -> #REF!
K32: р-р 60-62 рост 182-188 | L32: 3650 | M32: 2284 | N32: 4660335521517 | Q32: =P32*M32 -> 0 | S32: 50 | U32: =IF(EXACT(O32,Y32),M32,M32*(1-'Расчет ПРЕДЗАКАЗ'!$D$10)) -> 2238.32 | V32: =P32*U32 -> 0 | W32: =IF(EXACT(O32,Y32),M32,M32*(1-#REF!)) -> #REF! | X32: =P32*W32 -> #REF! | Y32: СтопЦена | Z32: =IF(EXACT(O32,Y32),Q32,0) -> 0 | AA32: =IF(Z32=0,Q32,0) -> 0 | AB32: =IF(U32=0,"",L32/U32-1) -> 0.6306873 | AC32: =IF(W32=0,"",L32/W32-1) -> #REF!
L33: =M33-M33*30% -> 0 | Q33: =P33*M33 -> 0 | U33: =IF(EXACT(O33,Y33),M33,M33*(1-'Расчет ПРЕДЗАКАЗ'!$D$10)) -> 0 | V33: =P33*U33 -> 0 | W33: =IF(EXACT(O33,Y33),M33,M33*(1-#REF!)) -> #REF! | X33: =P33*W33 -> #REF! | Y33: СтопЦена | Z33: =IF(EXACT(O33,Y33),Q33,0) -> 0 | AA33: =IF(Z33=0,Q33,0) -> 0 | AB33: =IF(U33=0,"",L33/U33-1) | AC33: =IF(W33=0,"",L33/W33-1) -> #REF!
L34: =M34-M34*30% -> 0 | Q34: =P34*M34 -> 0 | U34: =IF(EXACT(O34,Y34),M34,M34*(1-'Расчет ПРЕДЗАКАЗ'!$D$10)) -> 0 | V34: =P34*U34 -> 0 | W34: =IF(EXACT(O34,Y34),M34,M34*(1-#REF!)) -> #REF! | X34: =P34*W34 -> #REF! | Y34: СтопЦена | Z34: =IF(EXACT(O34,Y34),Q34,0) -> 0 | AA34: =IF(Z34=0,Q34,0) -> 0 | AB34: =IF(U34=0,"",L34/U34-1) | AC34: =IF(W34=0,"",L34/W34-1) -> #REF!
L35: =M35-M35*30% -> 0 | Q35: =P35*M35 -> 0 | U35: =IF(EXACT(O35,Y35),M35,M35*(1-'Расчет ПРЕДЗАКАЗ'!$D$10)) -> 0 | V35: =P35*U35 -> 0 | W35: =IF(EXACT(O35,Y35),M35,M35*(1-#REF!)) -> #REF! | X35: =P35*W35 -> #REF! | Y35: СтопЦена | Z35: =IF(EXACT(O35,Y35),Q35,0) -> 0 | AA35: =IF(Z35=0,Q35,0) -> 0 | AB35: =IF(U35=0,"",L35/U35-1) | AC35: =IF(W35=0,"",L35/W35-1) -> #REF!
L36: =M36-M36*30% -> 0 | Q36: =P36*M36 -> 0 | U36: =IF(EXACT(O36,Y36),M36,M36*(1-'Расчет ПРЕДЗАКАЗ'!$D$10)) -> 0 | V36: =P36*U36 -> 0 | W36: =IF(EXACT(O36,Y36),M36,M36*(1-#REF!)) -> #REF! | X36: =P36*W36 -> #REF! | Y36: СтопЦена | Z36: =IF(EXACT(O36,Y36),Q36,0) -> 0 | AA36: =IF(Z36=0,Q36,0) -> 0 | AB36: =IF(U36=0,"",L36/U36-1) | AC36: =IF(W36=0,"",L36/W36-1) -> #REF!
L37: =M37-M37*30% -> 0 | Q37: =P37*M37 -> 0 | U37: =IF(EXACT(O37,Y37),M37,M37*(1-'Расчет ПРЕДЗАКАЗ'!$D$10)) -> 0 | V37: =P37*U37 -> 0 | W37: =IF(EXACT(O37,Y37),M37,M37*(1-#REF!)) -> #REF! | X37: =P37*W37 -> #REF! | Y37: СтопЦена | Z37: =IF(EXACT(O37,Y37),Q37,0) -> 0 | AA37: =IF(Z37=0,Q37,0) -> 0 | AB37: =IF(U37=0,"",L37/U37-1) | AC37: =IF(W37=0,"",L37/W37-1) -> #REF!
L38: =M38-M38*30% -> 0 | Q38: =P38*M38 -> 0 | U38: =IF(EXACT(O38,Y38),M38,M38*(1-'Расчет ПРЕДЗАКАЗ'!$D$10)) -> 0 | V38: =P38*U38 -> 0 | W38: =IF(EXACT(O38,Y38),M38,M38*(1-#REF!)) -> #REF! | X38: =P38*W38 -> #REF! | Y38: СтопЦена | Z38: =IF(EXACT(O38,Y38),Q38,0) -> 0 | AA38: =IF(Z38=0,Q38,0) -> 0 | AB38: =IF(U38=0,"",L38/U38-1) | AC38: =IF(W38=0,"",L38/W38-1) -> #REF!
A40: 507 | B40: 162-2303000125-083 | C40: Мерч толстовка флисовая PAYER, полынь | D40: Фото отсутствует | F40: Ткань верха: флис: полиэстер 100% | G40: полынь | I40: Толстовки давно перестали быть исключительно спортивной одеждой. Сегодня это стильный и универсальный элемент гардероба, который одинаково хорошо подходит для активного отдыха, прогулок, учебы, работы в неформальной обстановке и даже городских повседневных образов. Толстовка сочетает в себе комфорт, практичность и современный дизайн.Толстовка изготовлена из флиса и легко вписывается как в спортивный стиль, так и в casual, позволяя чувствовать себя уверенно и свободно в любой ситуации. Толстовка оснащена удобным капюшоном, который защитит вас от ветра, и эластичными манжетами на рукавах и по низу, что обеспечивает плотную посадку и предотвращает попадание холодного воздуха. Просторные карманы добавляют практичности, позволяя хранить мелкие предметы под рукой. | J40: WEB-Сайт | K40: р-р 44-46 рост 170-176 | L40: 2830 | M40: 1764 | N40: 4660335551316 | Q40: =P40*M40 -> 0 | S40: 6 | U40: =IF(EXACT(O40,Y40),M40,M40*(1-'Расчет ПРЕДЗАКАЗ'!$D$10)) -> 1728.72 | V40: =P40*U40 -> 0 | W40: =IF(EXACT(O40,Y40),M40,M40*(1-#REF!)) -> #REF! | X40: =P40*W40 -> #REF! | Y40: СтопЦена | Z40: =IF(EXACT(O40,Y40),Q40,0) -> 0 | AA40: =IF(Z40=0,Q40,0) -> 0 | AB40: =IF(U40=0,"",L40/U40-1) -> 0.63704938 | AC40: =IF(W40=0,"",L40/W40-1) -> #REF!
K41: р-р 48-50 рост 170-176 | L41: 2830 | M41: 1764 | N41: 4660335551323 | Q41: =P41*M41 -> 0 | S41: 9 | U41: =IF(EXACT(O41,Y41),M41,M41*(1-'Расчет ПРЕДЗАКАЗ'!$D$10)) -> 1728.72 | V41: =P41*U41 -> 0 | W41: =IF(EXACT(O41,Y41),M41,M41*(1-#REF!)) -> #REF! | X41: =P41*W41 -> #REF! | Y41: СтопЦена | Z41: =IF(EXACT(O41,Y41),Q41,0) -> 0 | AA41: =IF(Z41=0,Q41,0) -> 0 | AB41: =IF(U41=0,"",L41/U41-1) -> 0.63704938 | AC41: =IF(W41=0,"",L41/W41-1) -> #REF!
Q42: =P42*M42 -> 0 | U42: =IF(EXACT(O42,Y42),M42,M42*(1-'Расчет ПРЕДЗАКАЗ'!$D$10)) -> 0 | V42: =P42*U42 -> 0 | W42: =IF(EXACT(O42,Y42),M42,M42*(1-#REF!)) -> #REF! | X42: =P42*W42 -> #REF! | Y42: СтопЦена | Z42: =IF(EXACT(O42,Y42),Q42,0) -> 0 | AA42: =IF(Z42=0,Q42,0) -> 0 | AB42: =IF(U42=0,"",L42/U42-1) | AC42: =IF(W42=0,"",L42/W42-1) -> #REF!
Q43: =P43*M43 -> 0 | U43: =IF(EXACT(O43,Y43),M43,M43*(1-'Расчет ПРЕДЗАКАЗ'!$D$10)) -> 0 | V43: =P43*U43 -> 0 | W43: =IF(EXACT(O43,Y43),M43,M43*(1-#REF!)) -> #REF! | X43: =P43*W43 -> #REF! | Y43: СтопЦена | Z43: =IF(EXACT(O43,Y43),Q43,0) -> 0 | AA43: =IF(Z43=0,Q43,0) -> 0 | AB43: =IF(U43=0,"",L43/U43-1) | AC43: =IF(W43=0,"",L43/W43-1) -> #REF!
Q44: =P44*M44 -> 0 | U44: =IF(EXACT(O44,Y44),M44,M44*(1-'Расчет ПРЕДЗАКАЗ'!$D$10)) -> 0 | V44: =P44*U44 -> 0 | W44: =IF(EXACT(O44,Y44),M44,M44*(1-#REF!)) -> #REF! | X44: =P44*W44 -> #REF! | Y44: СтопЦена | Z44: =IF(EXACT(O44,Y44),Q44,0) -> 0 | AA44: =IF(Z44=0,Q44,0) -> 0 | AB44: =IF(U44=0,"",L44/U44-1) | AC44: =IF(W44=0,"",L44/W44-1) -> #REF!
Q45: =P45*M45 -> 0 | U45: =IF(EXACT(O45,Y45),M45,M45*(1-'Расчет ПРЕДЗАКАЗ'!$D$10)) -> 0 | V45: =P45*U45 -> 0 | W45: =IF(EXACT(O45,Y45),M45,M45*(1-#REF!)) -> #REF! | X45: =P45*W45 -> #REF! | Y45: СтопЦена | Z45: =IF(EXACT(O45,Y45),Q45,0) -> 0 | AA45: =IF(Z45=0,Q45,0) -> 0 | AB45: =IF(U45=0,"",L45/U45-1) | AC45: =IF(W45=0,"",L45/W45-1) -> #REF!
Q46: =P46*M46 -> 0 | U46: =IF(EXACT(O46,Y46),M46,M46*(1-'Расчет ПРЕДЗАКАЗ'!$D$10)) -> 0 | V46: =P46*U46 -> 0 | W46: =IF(EXACT(O46,Y46),M46,M46*(1-#REF!)) -> #REF! | X46: =P46*W46 -> #REF! | Y46: СтопЦена | Z46: =IF(EXACT(O46,Y46),Q46,0) -> 0 | AA46: =IF(Z46=0,Q46,0) -> 0 | AB46: =IF(U46=0,"",L46/U46-1) | AC46: =IF(W46=0,"",L46/W46-1) -> #REF!
Q47: =P47*M47 -> 0 | U47: =IF(EXACT(O47,Y47),M47,M47*(1-'Расчет ПРЕДЗАКАЗ'!$D$10)) -> 0 | V47: =P47*U47 -> 0 | W47: =IF(EXACT(O47,Y47),M47,M47*(1-#REF!)) -> #REF! | X47: =P47*W47 -> #REF! | Y47: СтопЦена | Z47: =IF(EXACT(O47,Y47),Q47,0) -> 0 | AA47: =IF(Z47=0,Q47,0) -> 0 | AB47: =IF(U47=0,"",L47/U47-1) | AC47: =IF(W47=0,"",L47/W47-1) -> #REF!
Q48: =P48*M48 -> 0 | U48: =IF(EXACT(O48,Y48),M48,M48*(1-'Расчет ПРЕДЗАКАЗ'!$D$10)) -> 0 | V48: =P48*U48 -> 0 | W48: =IF(EXACT(O48,Y48),M48,M48*(1-#REF!)) -> #REF! | X48: =P48*W48 -> #REF! | Y48: СтопЦена | Z48: =IF(EXACT(O48,Y48),Q48,0) -> 0 | AA48: =IF(Z48=0,Q48,0) -> 0 | AB48: =IF(U48=0,"",L48/U48-1) | AC48: =IF(W48=0,"",L48/W48-1) -> #REF!
Q49: =P49*M49 -> 0 | U49: =IF(EXACT(O49,Y49),M49,M49*(1-'Расчет ПРЕДЗАКАЗ'!$D$10)) -> 0 | V49: =P49*U49 -> 0 | W49: =IF(EXACT(O49,Y49),M49,M49*(1-#REF!)) -> #REF! | X49: =P49*W49 -> #REF! | Y49: СтопЦена | Z49: =IF(EXACT(O49,Y49),Q49,0) -> 0 | AA49: =IF(Z49=0,Q49,0) -> 0 | AB49: =IF(U49=0,"",L49/U49-1) | AC49: =IF(W49=0,"",L49/W49-1) -> #REF!
Q50: =P50*M50 -> 0 | U50: =IF(EXACT(O50,Y50),M50,M50*(1-'Расчет ПРЕДЗАКАЗ'!$D$10)) -> 0 | V50: =P50*U50 -> 0 | W50: =IF(EXACT(O50,Y50),M50,M50*(1-#REF!)) -> #REF! | X50: =P50*W50 -> #REF! | Y50: СтопЦена | Z50: =IF(EXACT(O50,Y50),Q50,0) -> 0 | AA50: =IF(Z50=0,Q50,0) -> 0 | AB50: =IF(U50=0,"",L50/U50-1) | AC50: =IF(W50=0,"",L50/W50-1) -> #REF!
Q51: =P51*M51 -> 0 | U51: =IF(EXACT(O51,Y51),M51,M51*(1-'Расчет ПРЕДЗАКАЗ'!$D$10)) -> 0 | V51: =P51*U51 -> 0 | W51: =IF(EXACT(O51,Y51),M51,M51*(1-#REF!)) -> #REF! | X51: =P51*W51 -> #REF! | Y51: СтопЦена | Z51: =IF(EXACT(O51,Y51),Q51,0) -> 0 | AA51: =IF(Z51=0,Q51,0) -> 0 | AB51: =IF(U51=0,"",L51/U51-1) | AC51: =IF(W51=0,"",L51/W51-1) -> #REF!
Q52: =P52*M52 -> 0 | U52: =IF(EXACT(O52,Y52),M52,M52*(1-'Расчет ПРЕДЗАКАЗ'!$D$10)) -> 0 | V52: =P52*U52 -> 0 | W52: =IF(EXACT(O52,Y52),M52,M52*(1-#REF!)) -> #REF! | X52: =P52*W52 -> #REF! | Y52: СтопЦена | Z52: =IF(EXACT(O52,Y52),Q52,0) -> 0 | AA52: =IF(Z52=0,Q52,0) -> 0 | AB52: =IF(U52=0,"",L52/U52-1) | AC52: =IF(W52=0,"",L52/W52-1) -> #REF!
